BEGIN:VCALENDAR
VERSION:2.0
PRODID:-//ChamberMaster//Event Calendar 2.0//EN
METHOD:PUBLISH
X-PUBLISHED-TTL:P3D
REFRESH-INTERVAL:P3D
CALSCALE:GREGORIAN
BEGIN:VEVENT
DTSTART:20231103T213000Z
DTEND:20231104T010000Z
X-MICROSOFT-CDO-ALLDAYEVENT:FALSE
SUMMARY:STLC Ogdensburg Chamber of Commerce Annual Dinner
DESCRIPTION:STLC OGDENSBURG CHAMBER ANNUAL DINNER\n\nThe 2023 STLC Ogdensburg Chamber of Commerce Annual Dinner will take place on Friday\, November 3rd at 5:30pm at the Gran View Restaurant. Celebrations will include a delicious dinner and honor the Citizen of the Year\, Business Improvement and Outstanding Community Service awardees. There will be a 50/50 raffle\, live and silent auctions and Lottery Board raffle.\n\n\n\nCITIZEN OF THE YEAR | MARSHA HOUGH\n\nMarsha Hough was selected for her dedication to Ogdensburg and her volunteer service to many community organizations including Rotary Club\, Fort de la Presentation Association\, the Greater Ogdensburg Chamber of Commerce and the Ogdensburg History Museum.\n\n\n\nBUSINESS IMPROVMENT AWARD | QT LASER AND DESIGN\n\nJustin and Misty Fishel purchased and renovated a vacant building on Ford Street that was vacant for over 20 years and have built a successful and thriving business\, QT Laser and Design. They are generous with donations and support their community and have created a St. Lawrence River clothing line that attracts people from all over the county\, state and country. They have established a thriving business\, revitalized a vacant building\, hired local employees and created an attraction for tourism.\n\n\n\nOUTSTANDING COMMUNITY SERVICE AWARD | THE OGDENSBURG GARDEN CLUB\n\nThe Ogdensburg Garden Club will be recognized for their tireless service and following their mission. They  faithfully work hard to improve the community and continues to add beauty to the city of Ogdensburg by planting and maintaining four major gardens\; providing hanging baskets along Ford and State streets each summer\; presenting programs\, flower shows\, garden tours for the public.\n\n\n\nDINNING MENU\n\nThe menu will be prime rib/roasted stuffed boneless breast of chicken with apple stuffing/broiled seafood platter\; grilled confit portabella mushrooms for vegetarian guests\; French onion soup\, GranView house salad with carrot cake for dessert.\n\n\n\nREGISTRATION\n\nRegistration is is required. Tickets are $50 per person. Seating is limited. CLICK HERE make to reserve your seat today!\n\n\n\nTo become a sponsor or donate an auction item\, please call Laura Pearson at 315-393-3620 via email at laura@slcchamber.org.
X-ALT-DESC;FMTTYPE=text/html:<span style="font-size:22px\;"><span style="color:#000080\;"><strong>STLC OGDENSBURG CHAMBER ANNUAL DINNER</strong></span></span><br />\nThe 2023 STLC Ogdensburg Chamber of Commerce Annual Dinner<strong> </strong>will take place&nbsp\;on Friday\, November 3rd at 5:30pm at the Gran View Restaurant. Celebrations will include a delicious dinner and honor the Citizen of the Year\, Business Improvement and Outstanding Community Service awardees.&nbsp\;There will be a 50/50 raffle\, live and silent auctions and Lottery Board raffle.<br />\n<br />\n<strong>CITIZEN OF THE YEAR | MARSHA HOUGH</strong><br />\nMarsha Hough was selected for her dedication to Ogdensburg and her volunteer service to many community organizations including Rotary Club\, Fort de la Presentation Association\, the Greater Ogdensburg Chamber of Commerce and the Ogdensburg History Museum.<br />\n<br />\n<strong>BUSINESS IMPROVMENT AWARD | QT LASER AND DESIGN</strong><br />\nJustin and Misty Fishel purchased and renovated a vacant building on Ford Street that was vacant for over 20 years and have built a successful and thriving business\, QT Laser and Design.&nbsp\;They are generous with donations and support their community and have created a St. Lawrence River clothing line that attracts people from all over the county\, state and country. They have established a thriving business\, revitalized a vacant building\, hired local employees and created an attraction for tourism.<br />\n<br />\n<strong>OUTSTANDING COMMUNITY SERVICE AWARD | THE OGDENSBURG GARDEN CLUB</strong><br />\nThe Ogdensburg Garden Club will be recognized for their tireless service and following their mission. They&nbsp\; faithfully work hard to improve the community and continues to add beauty to the city of Ogdensburg by planting and maintaining four major gardens\; providing hanging baskets along Ford and State streets each summer\; presenting programs\, flower shows\, garden tours for the public.<br />\n<br />\n<strong>DINNING MENU</strong><br />\nThe menu will be prime rib/roasted stuffed boneless breast of chicken with apple stuffing/broiled seafood platter\; grilled confit portabella mushrooms for vegetarian guests\; French onion soup\, GranView house salad with carrot cake for dessert.<br />\n<br />\n<strong>REGISTRATION</strong><br />\nRegistration is is required. Tickets are $50 per person. Seating is limited. <strong><a href="https://northcountryguide.chambermaster.com/eventregistration/register/11421" target="_blank">CLICK HERE make to reserve your seat today</a>!</strong><br />\n<br />\nTo&nbsp\;become a sponsor or donate an auction item\, please call Laura Pearson at 315-393-3620 via email at&nbsp\;<a href="mailto:laura@slcchamber.org">laura@slcchamber.org</a>.&nbsp\;
LOCATION:Gran View Restaurant 6765 State Highway 37 Ogdensburg\, NY
UID:e.2288.11421
SEQUENCE:3
DTSTAMP:20260422T165519Z
URL:http://visitstl-gzcms.preview.gochambermaster.com/events/details/stlc-ogdensburg-chamber-of-commerce-annual-dinner-11421
END:VEVENT

END:VCALENDAR
