BEGIN:VCALENDAR
VERSION:2.0
PRODID:-//ChamberMaster//Event Calendar 2.0//EN
METHOD:PUBLISH
X-PUBLISHED-TTL:P3D
REFRESH-INTERVAL:P3D
CALSCALE:GREGORIAN
BEGIN:VEVENT
DTSTART:20230610T140000Z
DTEND:20230610T153000Z
X-MICROSOFT-CDO-ALLDAYEVENT:FALSE
SUMMARY:Story Garden Grand Opening
DESCRIPTION:Colton Hepburn Library's Enchanted Story Garden Grand Opening! Buggliest Bug story\, Music by Animal Crackers\, Monster Hop game\, children's gift bags and free ice cream for the first 100 children. Ribbon cutting at 10:00 a.m.
X-ALT-DESC;FMTTYPE=text/html:Colton Hepburn Library&rsquo\;s Enchanted <strong>Story Garden Grand Opening</strong>! Buggliest Bug story\, Music by Animal Crackers\, Monster Hop game\, children&rsquo\;s gift bags and free ice cream for the first 100 children. Ribbon cutting at 10:00 a.m.
LOCATION:Colton Hepburn Library Lawn 84 Main Street Colton\, NY
UID:e.2288.12035
SEQUENCE:3
DTSTAMP:20260422T065126Z
URL:http://visitstl-gzcms.preview.gochambermaster.com/events/details/story-garden-grand-opening-12035
END:VEVENT

END:VCALENDAR
