BEGIN:VCALENDAR
VERSION:2.0
PRODID:-//ChamberMaster//Event Calendar 2.0//EN
METHOD:PUBLISH
X-PUBLISHED-TTL:P3D
REFRESH-INTERVAL:P3D
CALSCALE:GREGORIAN
BEGIN:VEVENT
DTSTART:20250221T200000Z
DTEND:20250222T030000Z
X-MICROSOFT-CDO-ALLDAYEVENT:FALSE
SUMMARY:SUNY Potsdam Bear Pride Night
DESCRIPTION:SUNY Potsdam Bear Pride Night\n\nSport Your "Bear Wear"! SUNY Potsdam is looking to pack the Maxcy Hall Athletic Complex on Friday\, Feb. 21\, as the College gears up for its 21st annual Bear Pride Night! Through the combined efforts of the Offices of Alumni Relations\, Student Life and the Bears' Athletic Department\, SUNY Potsdam will invite area alumni\, fans\, and students to cheer on the Bears and take part in fun activities and promotions throughout the evening.\n\n\n\nBear Pride Night Games + Acivities\n\n	Women's Hockey vs. Buffalo State (Maxcy Ice Arena) 4 to 6 p.m.\n	Community Open Swim (Maxcy Pool)* 5:30 p.m.\n	\n		Children (17 & under) must be accompanied by an adult for the open swim.\n	\n	\n	Women's Basketball vs. Fredonia (Welsh Gymnasium) 7 p.m.\n	Men's Hockey vs. Plattsburgh (Maxcy Ice Arena) 7:30 p.m.\n	Men's Basketball vs. Fredonia (Welsh Gymnasium) time TBA\n\nPromotions + Giveaways \n\n\n	Free Bear Pride T-shirts\n	Walking Tacos\n	Stewart's Sundaes\n	Max C Bear Look a Like Contest\n	$500 Raffle Drawing\n	DIY Potsdam Bears (supplies limited)\n	Coupons for subs + pizzas\n	Chuck-A-Puck
X-ALT-DESC;FMTTYPE=text/html:<span style="font-size:18px\;"><strong>SUNY Potsdam Bear Pride Night</strong></span><br />\nSport Your &quot\;Bear Wear&quot\;! SUNY Potsdam is looking to pack the Maxcy Hall Athletic Complex on Friday\, Feb. 21\, as the College gears up for its 21st annual Bear Pride Night! Through the combined efforts of the Offices of Alumni Relations\, Student Life and the Bears&#39\; Athletic Department\, SUNY Potsdam will invite area alumni\, fans\, and students to cheer on the Bears and take part in fun activities and promotions throughout the evening.<br />\n<br />\n<strong>Bear Pride Night Games + Acivities</strong>\n<ul>\n	<li><strong>Women&#39\;s Hockey vs. Buffalo State </strong>(Maxcy Ice Arena) 4 to 6 p.m.</li>\n	<li><strong>Community Open Swim </strong>(Maxcy Pool)* 5:30 p.m.\n	<ul>\n		<li><em>Children (17 &amp\;&nbsp\;under) must be accompanied by an adult for the open swim.</em></li>\n	</ul>\n	</li>\n	<li><strong>Women&#39\;s Basketball vs. Fredonia</strong> (Welsh Gymnasium) 7 p.m.</li>\n	<li><strong>Men&#39\;s Hockey vs. Plattsburgh</strong> (Maxcy Ice Arena) 7:30 p.m.</li>\n	<li><strong>Men&#39\;s Basketball vs. Fredonia</strong> (Welsh Gymnasium) time TBA</li>\n</ul>\n<strong>Promotions +&nbsp\;Giveaways </strong>\n\n<ul>\n	<li>Free Bear Pride T-shirts</li>\n	<li>Walking Tacos</li>\n	<li>Stewart&#39\;s Sundaes</li>\n	<li>Max C Bear Look a Like Contest</li>\n	<li>$500 Raffle Drawing</li>\n	<li>DIY Potsdam Bears (supplies limited)</li>\n	<li>Coupons for subs + pizzas</li>\n	<li>Chuck-A-Puck</li>\n</ul>\n
LOCATION:Maxcy Hall at SUNY Potsdam 5 Tuper Lake Drive Potsdam\, NY
UID:e.2288.19720
SEQUENCE:3
DTSTAMP:20260422T045353Z
URL:http://visitstl-gzcms.preview.gochambermaster.com/events/details/suny-potsdam-bear-pride-night-19720
END:VEVENT

END:VCALENDAR
