BEGIN:VCALENDAR
VERSION:2.0
PRODID:-//ChamberMaster//Event Calendar 2.0//EN
METHOD:PUBLISH
X-PUBLISHED-TTL:P3D
REFRESH-INTERVAL:P3D
CALSCALE:GREGORIAN
BEGIN:VEVENT
DTSTART:20250426T140000Z
DTEND:20250426T180000Z
X-MICROSOFT-CDO-ALLDAYEVENT:FALSE
SUMMARY:Swedish Weaving Table Runner Workshop
DESCRIPTION:Swedish Weaving Table Runner Workshop\n\n\n\nVicky Goldman will instruct students on this 1600's weaving technique. Table runner is 14" wide by 50" long and is a technique easily mastered. All materials provided except scissors to work with. Project works up quickly and students will leave with the knowledge on how to finish it at home. Bring lunch and a drink. Must pre-register at www.lakestlawrnecearts.com\, email lakesaintlawrencearts@gmail.com\, or call 315-705-1241 or 315-705-5198.
X-ALT-DESC;FMTTYPE=text/html:<span style="font-size:18px\;"><strong>Swedish Weaving Table Runner Workshop</strong></span><br />\n<br />\nVicky Goldman will instruct students on this 1600&rsquo\;s weaving technique. Table runner is 14&rdquo\; wide by 50&rdquo\; long and is a technique easily mastered. All materials provided except scissors to work with. Project works up quickly and students will leave with the knowledge on how to finish it at home. Bring lunch and a drink. Must pre-register at www.lakestlawrnecearts.com\, email lakesaintlawrencearts@gmail.com\, or call 315-705-1241 or 315-705-5198.
LOCATION:Waddington-Hepburn Library 30 Main Street\, Waddington\, NY
UID:e.2288.20153
SEQUENCE:3
DTSTAMP:20260421T090921Z
URL:http://visitstl-gzcms.preview.gochambermaster.com/events/details/swedish-weaving-table-runner-workshop-04-26-2025-20153
END:VEVENT

END:VCALENDAR
