BEGIN:VCALENDAR
VERSION:2.0
PRODID:-//ChamberMaster//Event Calendar 2.0//EN
METHOD:PUBLISH
X-PUBLISHED-TTL:P3D
REFRESH-INTERVAL:P3D
CALSCALE:GREGORIAN
BEGIN:VEVENT
DTSTART:20250329T140000Z
DTEND:20250329T180000Z
X-MICROSOFT-CDO-ALLDAYEVENT:FALSE
SUMMARY:Swedish Weaving Table Runner Workshop
DESCRIPTION:Swedish Weaving Table Runner Workshop\n\nVicky Goldman will instruct students on this woven piece which is a comeback from the 1600's. Runner is 14" wide by 50" long. Not completed in class\, but students leave with the knowledge on how to finish it. All materials provided. Bring scissors and lunch. Must pre-register. Email: lakesaintlawrencearts@gmail.com\, Call 315-705-1241 or 315-705-5198.
X-ALT-DESC;FMTTYPE=text/html:<span style="font-size:18px\;"><strong>Swedish Weaving Table Runner Workshop</strong></span><br />\nVicky Goldman will instruct students on this woven piece which is a comeback from the 1600&rsquo\;s. Runner is 14&rdquo\; wide by 50&rdquo\; long. Not completed in class\, but students leave with the knowledge on how to finish it. All materials provided. Bring scissors and lunch. Must pre-register. Email: lakesaintlawrencearts@gmail.com\, Call 315-705-1241 or 315-705-5198.
LOCATION:The Gallery at Lake Saint Lawrence Arts 14 Main Street\, Waddington\, NY
UID:e.2288.20011
SEQUENCE:3
DTSTAMP:20260421T215117Z
URL:http://visitstl-gzcms.preview.gochambermaster.com/events/details/swedish-weaving-table-runner-workshop-20011
END:VEVENT

END:VCALENDAR
