BEGIN:VCALENDAR
VERSION:2.0
PRODID:-//ChamberMaster//Event Calendar 2.0//EN
METHOD:PUBLISH
X-PUBLISHED-TTL:P3D
REFRESH-INTERVAL:P3D
CALSCALE:GREGORIAN
BEGIN:VEVENT
DTSTART:20250216T000000Z
DTEND:20250216T045500Z
X-MICROSOFT-CDO-ALLDAYEVENT:FALSE
SUMMARY:Sweethearts & Snowflakes
DESCRIPTION:Sweethearts & Snowflakes Winter Party\n\nThe countdown to Falls Festival 2025 officially begins at Rensselear Falls winter Sweethearts & Snowflakes fundraiser\, set for Saturday\, February 15\, at Rensselaer Falls Fire Hall. This annual mid-winter celebration is the first major fundraiser for Falls Festival 2025 (scheduled for Sept. 5-6). With live music\, raffles\, food\, and dancing\, Sweethearts & Snowflakes is a great way to support!\n\n\n\nThis year's event features a performance by Another Fine Mess\, a crowd-favorite band known for their high-energy mix of rock\, country\, and classic hits. Guests will also enjoy: Raffles\, prizes\, themed cocktails\, food and local community spirit. \n\n	7-9 PM: Live Music - DJ Double D & Maddog\n	9-12 AM: Live Band - Another Fine Mess\n	50/50 Raffle\n	Prizes + Giveaways\n	Grazing Tables\n	Themed Cocktails\n	Bella-Brooke Winery
X-ALT-DESC;FMTTYPE=text/html:<span style="font-size:18px\;"><strong>Sweethearts &amp\; Snowflakes Winter Party</strong></span><br />\nThe countdown to Falls Festival 2025 officially begins at Rensselear Falls winter Sweethearts &amp\; Snowflakes fundraiser\, set for Saturday\, February 15\, at Rensselaer Falls Fire Hall. This annual mid-winter celebration is the first major fundraiser for Falls Festival 2025 (scheduled for Sept. 5-6). With live music\, raffles\, food\, and dancing\, Sweethearts &amp\; Snowflakes is a great way to support!<br />\n<br />\nThis year&rsquo\;s event features a performance by Another Fine Mess\, a crowd-favorite band known for their high-energy mix of rock\, country\, and classic hits.&nbsp\;Guests will also enjoy: Raffles\, prizes\, themed cocktails\, food and local community spirit.&#8232\;\n<ul>\n	<li>7-9 PM: Live Music - DJ Double D &amp\; Maddog</li>\n	<li>9-12 AM: Live Band - Another Fine Mess</li>\n	<li>50/50 Raffle</li>\n	<li>Prizes + Giveaways</li>\n	<li>Grazing Tables</li>\n	<li>Themed Cocktails</li>\n	<li>Bella-Brooke Winery</li>\n</ul>\n
LOCATION:Rensselaer Falls Fire Department 424 Rensselaer St. Rensselaer Falls\, NY
UID:e.2288.19721
SEQUENCE:3
DTSTAMP:20260422T101212Z
URL:http://visitstl-gzcms.preview.gochambermaster.com/events/details/sweethearts-snowflakes-19721
END:VEVENT

END:VCALENDAR
