BEGIN:VCALENDAR
VERSION:2.0
PRODID:-//ChamberMaster//Event Calendar 2.0//EN
METHOD:PUBLISH
X-PUBLISHED-TTL:P3D
REFRESH-INTERVAL:P3D
CALSCALE:GREGORIAN
BEGIN:VEVENT
DTSTART:20250725T103000Z
DTEND:20250727T183000Z
X-MICROSOFT-CDO-ALLDAYEVENT:FALSE
SUMMARY:Tackle Warehouse Invitationals on St Lawrence River
DESCRIPTION:Tackle Warehouse Invitationals on St Lawrence River\n\nMassena Intake Dam - St. Lawrence River\n\nJuly 25 - 27\, 2025\n\nOrganized by Major League Fishing and hosted by Fish Massena.
X-ALT-DESC;FMTTYPE=text/html:<span style="font-size:18px\;"><strong>Tackle Warehouse Invitationals on St Lawrence River</strong><br />\nMassena Intake Dam - St. Lawrence River<br />\nJuly 25 - 27\, 2025</span><br />\nOrganized by <a href="https://majorleaguefishing.com/" target="_blank">Major League Fishing</a> and hosted by <a href="https://fishmassenany.com/" target="_blank">Fish Massena</a>.
LOCATION:Massena Intake Dam 1415 State Highway 131 Massena\, NY 13662
UID:e.2288.20082
SEQUENCE:3
DTSTAMP:20260421T001416Z
URL:http://visitstl-gzcms.preview.gochambermaster.com/events/details/tackle-warehouse-invitationals-on-st-lawrence-river-20082
END:VEVENT

END:VCALENDAR
