BEGIN:VCALENDAR
VERSION:2.0
PRODID:-//ChamberMaster//Event Calendar 2.0//EN
METHOD:PUBLISH
X-PUBLISHED-TTL:P3D
REFRESH-INTERVAL:P3D
CALSCALE:GREGORIAN
BEGIN:VEVENT
DTSTART:20231026T223000Z
DTEND:20231026T233000Z
X-MICROSOFT-CDO-ALLDAYEVENT:FALSE
SUMMARY:Tarot Share
DESCRIPTION:TAROT SHARE\n\nWITH KATHY WILCOX\n\n\n\nJoin Kathy Wilcox for an evening of connecting with the energy of the Tarot to enhance your intuition and support personal growth. Workshops will be held on Thursday\, Oct. 26 from 6-7:30pm at the Potsdam Public Library. Each workshop will begin with a guided meditation\; followed by some fun exercises to help you tap into your natural intuitive abilities. Dive deep into the cards with a focused reading activity centered around a different theme each month. The workshop with a half hour of unstructured community time\, where you can practice reading for others or yourself. Bring your favorite deck\, or feel free to borrow one of the many different decks we will have on hand for your use.
X-ALT-DESC;FMTTYPE=text/html:<span style="font-size:20px\;"><strong>TAROT SHARE</strong><br />\nWITH KATHY WILCOX</span><br />\n<br />\nJoin Kathy Wilcox for an evening of connecting with the energy of the Tarot to enhance your intuition and support personal growth. Workshops will be held on Thursday\, Oct. 26 from 6-7:30pm at the Potsdam Public Library. Each workshop will begin with a guided meditation\; followed by some fun exercises to help you tap into your natural intuitive abilities. Dive deep into the cards with a focused reading activity centered around a different theme each month. The workshop with a half hour of unstructured community time\, where you can practice reading for others or yourself. Bring your favorite deck\, or feel free to borrow one of the many different decks we will have on hand for your use.
LOCATION:Potsdam Public Library 2 Park Street Potsdam\, NY 13676
UID:e.2288.15425
SEQUENCE:3
DTSTAMP:20260422T130901Z
URL:http://visitstl-gzcms.preview.gochambermaster.com/events/details/tarot-share-15425
END:VEVENT

END:VCALENDAR
