BEGIN:VCALENDAR
VERSION:2.0
PRODID:-//ChamberMaster//Event Calendar 2.0//EN
METHOD:PUBLISH
X-PUBLISHED-TTL:P3D
REFRESH-INTERVAL:P3D
CALSCALE:GREGORIAN
BEGIN:VEVENT
DTSTART:20211016T220000Z
DTEND:20211031T020000Z
X-MICROSOFT-CDO-ALLDAYEVENT:FALSE
SUMMARY:Temple Haunt
DESCRIPTION:Temple 8th annual Haunt is going to be one like you have never seen before..."Be Afraid of the Dark" is the theme this year....it will be dark...it will be terrifying....you will scream with fear :) Please keep in mind...I do this yearly for the community...my way of giving back to Massena....I donate portion of the money generated to certain groups to help Massena...and plus it makes Massena just a little bit more fun for Halloween season. Many sponsors so far...as always...Thank you very much!!!! Reach out to me if you would like to volunteer to be a helper...set-up production\,  scarier...etc...reach out please..you're not going to want to miss this one!!!! Fully insured too \;) Temple Haunt 2021...please share....spread the scare!!!! \;)
X-ALT-DESC;FMTTYPE=text/html:Temple 8th annual Haunt is going to be one like you have never seen before...&quot\;Be Afraid of the Dark&quot\; is the theme this year....it will be dark...it will be terrifying....you will scream with fear :) Please keep in mind...I do this yearly for the community...my way of giving back to Massena....I donate portion of the money generated to certain groups to help Massena...and plus it makes Massena just a little bit more fun for Halloween season. Many sponsors so far...as always...Thank you very much!!!! Reach out to me if you would like to volunteer to be a helper...set-up production\,&nbsp\; scarier...etc...reach out please..you&#39\;re not going to want to miss this one!!!! Fully insured too \;) Temple Haunt 2021...please share....spread the scare!!!! \;)
LOCATION:16 church St Massena NY
UID:e.2288.10780
SEQUENCE:3
DTSTAMP:20260421T145212Z
URL:http://visitstl-gzcms.preview.gochambermaster.com/events/details/temple-haunt-10780
END:VEVENT

END:VCALENDAR
