BEGIN:VCALENDAR
VERSION:2.0
PRODID:-//ChamberMaster//Event Calendar 2.0//EN
METHOD:PUBLISH
X-PUBLISHED-TTL:P3D
REFRESH-INTERVAL:P3D
CALSCALE:GREGORIAN
BEGIN:VEVENT
DTSTART:20231130T170000Z
DTEND:20231130T180000Z
X-MICROSOFT-CDO-ALLDAYEVENT:FALSE
SUMMARY:That Lake Was a Mine? Uncovering St. Lawrence County's History Through Digital Mapping
DESCRIPTION:THAT WAS A MINE?\n\nUncovering St. Lawrence County's History Through Digital Mapping\n\n\n\nJoin Andre Comandon as he explores the possibility of creating a digital platform for the many spatial layers St. Lawrence County has accumulated over the years - the changing town boundaries\, the extent of forests and mining operations\, the path of rivers\, and people's stories - to connect with the past and plan for the future.
X-ALT-DESC;FMTTYPE=text/html:<span style="font-size:20px\;"><strong>THAT WAS A MINE?</strong><br />\nUncovering St. Lawrence County&#39\;s History Through Digital Mapping</span><br />\n<br />\nJoin Andre Comandon as he explores the possibility of creating a digital platform for the many spatial layers St. Lawrence County has accumulated over the years - the changing town boundaries\, the extent of forests and mining operations\, the path of rivers\, and people&#39\;s stories - to connect with the past and plan for the future.
LOCATION:In-person at the St. Lawrence County Historical Association (3 East Main Street\, Canton\, NY 13617) or RSVP to carlene@slcha.org for Zoom link.
UID:e.2288.16352
SEQUENCE:3
DTSTAMP:20260422T203308Z
URL:http://visitstl-gzcms.preview.gochambermaster.com/events/details/that-lake-was-a-mine-uncovering-st-lawrence-county-s-history-through-digital-mapping-16352
END:VEVENT

END:VCALENDAR
