BEGIN:VCALENDAR
VERSION:2.0
PRODID:-//ChamberMaster//Event Calendar 2.0//EN
METHOD:PUBLISH
X-PUBLISHED-TTL:P3D
REFRESH-INTERVAL:P3D
CALSCALE:GREGORIAN
BEGIN:VEVENT
DTSTART:20250726T220000Z
DTEND:20250727T003000Z
X-MICROSOFT-CDO-ALLDAYEVENT:FALSE
SUMMARY:The Band 814- The River of Life Tour
DESCRIPTION:The Band 814 returns to Massena\, NY! Join us at Massena Spring Park continuing our live concert series featuring amazing music and the testimonies of some of the top MLF pros in the country. There will be food trucks\, raffles\, giveaways\, and admission to the event is free!
X-ALT-DESC;FMTTYPE=text/html:The Band 814 returns to Massena\, NY! Join us at Massena Spring Park continuing our live concert series featuring amazing music and the testimonies of some of the top MLF pros in the country. There will be food trucks\, raffles\, giveaways\, and admission to the event is free!
LOCATION:Springs Park 434 S. Main Street Massena\, NY 13662
UID:e.2288.20500
SEQUENCE:3
DTSTAMP:20260421T034624Z
URL:http://visitstl-gzcms.preview.gochambermaster.com/events/details/the-band-814-the-river-of-life-tour-20500
END:VEVENT

END:VCALENDAR
