BEGIN:VCALENDAR
VERSION:2.0
PRODID:-//ChamberMaster//Event Calendar 2.0//EN
METHOD:PUBLISH
X-PUBLISHED-TTL:P3D
REFRESH-INTERVAL:P3D
CALSCALE:GREGORIAN
BEGIN:VEVENT
DTSTART:20240601T150000Z
DTEND:20240601T180000Z
X-MICROSOFT-CDO-ALLDAYEVENT:FALSE
SUMMARY:The Landing of Abbe Piquet 275th Anniversary
DESCRIPTION:THE LANDING OF ABBE PIQUET\n\n\n\nThe Fort La Pr sentation Association will present a reenactment of the historic landing of Abbe Piquet at the confluence of the St. Lawrence and Oswegatchie Rivers on the site of Fort de La Pr sentation 275 years ago. At this location the Abbe built a French Mission which laid the foundation for the City of Ogdensburg. \n\n\n\nA historical presentation will follow the reenactment on  Founding of Fort la Pr sentation\, given by Julie Madlin\, Ogdensburg City Historian and President of the Ogdensburg History Museum. A reception will conclude the event in celebration of the 275th anniversary.
X-ALT-DESC;FMTTYPE=text/html:<span style="font-size:20px\;"><strong>THE LANDING OF ABBE PIQUET</strong></span><br />\n<br />\nThe Fort La Pr&eacute\;sentation Association will present a reenactment of the historic landing of Abbe Piquet at the confluence of the St. Lawrence and Oswegatchie Rivers on the site of Fort de La Pr&eacute\;sentation 275 years ago. At this location the Abbe built a French Mission which laid the foundation for the City of Ogdensburg.&nbsp\;<br />\n<br />\nA historical presentation will follow the reenactment on &#8203\;Founding of Fort la Pr&eacute\;sentation\,&nbsp\;given by Julie Madlin\, Ogdensburg City Historian and President of the Ogdensburg History Museum.&nbsp\;A reception will conclude the event in celebration of the 275th anniversary.
LOCATION:Fort de la Presentation site 22 Albany Ave Ogdensburg\, NY
UID:e.2288.17850
SEQUENCE:3
DTSTAMP:20260422T020541Z
URL:http://visitstl-gzcms.preview.gochambermaster.com/events/details/the-landing-of-abbe-piquet-275th-anniversary-17850
END:VEVENT

END:VCALENDAR
