BEGIN:VCALENDAR
VERSION:2.0
PRODID:-//ChamberMaster//Event Calendar 2.0//EN
METHOD:PUBLISH
X-PUBLISHED-TTL:P3D
REFRESH-INTERVAL:P3D
CALSCALE:GREGORIAN
BEGIN:VEVENT
DTSTART;VALUE=DATE:20260418
DTEND;VALUE=DATE:20260419
TRANSP:TRANSPARENT
X-MICROSOFT-CDO-ALLDAYEVENT:TRUE
SUMMARY:The Maple Run Half Marathon and 5K
DESCRIPTION:The longest continuously held half marathon in St. Lawrence County. The Maple Run celebrates the end of winter\, contributes to economic development in the community\, and supports local youth running programs.\n\n\n\nPacket Pickup\n\nThe Maple Run has gone bagless!\n\nPlease BYOBag if you wish to haul your SWAG away in one.\n\nFriday\, April 17\, Packet Pickup and In-Person Registration (CASH ONLY: $80 for Half Marathon\; $60 for 5K\; $5 for Youth Half and 5K) 5 PM to 7:30 PM Canton Pavilion lobby Bend in the River Park 90 Lincoln Street Canton\, NY 13617\n\n\n\nSaturday\, April 18\, 2026 Packet Pickup and In-Person Registration 6:30 AM to 8 AM Canton Pavilion lobby Bend in the River ParK.\n\n\n\nRace-Day Details:\n\n	Half Marathon Start 8:30 AM\,  5K Start 9:15 Am\n	Start/ Finish line at the Bend in the River Park picnic shelter\n	Placement Awards 11:00/11:15 AM\n	Door Prize Drawing 11:00/11:15 AM\n	Stay for snacks and drinks 10:45 AM to 12:30 PM\n	Parking is available in the Canton Pavilion lot and along Lincoln Street\n	Distances Half marathon: 13.1 miles\, 8:30 AM start\n	5K-ish: around 3.1 miles\, 9:15 AM start\n	In-Person\, Virtual\, or Hybrid The Maple Run welcomes runners at all levels of development and fitness\, so there are many ways to participate.\n\n\n\nRunners can graduate from the 5K to the half-marathon\, or sample the half-marathon virtually this year\, on their own or with a group of running buddies\, to prepare for next year. Participants can also try a bit of both with the hybrid half-marathon option. Half-marathon and 5K distances are offered in both in-person and virtual formats. The half-marathon is only available as a hybrid event. A hybrid participant may finish 10 miles of the half-marathon on a course of their choosing\, indoors or out\, anytime before the 5K start on April 18. The final 3.1 miles are completed at the Maple Run event on Saturday\, April 18.\n\n\n\nLow-Cost Youth Registration Participants aged 8 to 17 on the day of the Maple Run may select a low-cost youth 5K or half-marathon entry.\n\n\n\nHalf-marathon youth participants are not eligible for age-group and overall placement awards\n\n\n\nAll youth registrants will receive a shirt and finisher's medallion included in their entry fee\n\n\n\nWalk or Run The half-marathon route will remain open for four hours\, so speedy walkers and runner/walkers have time to finish.\n\nDedicated walkers are encouraged to try the virtual or hybrid option to test their mettle on the half-marathon course or opt for the in-person 5K. The Maple Run start times for the in-person half marathon and 5K are staggered\, so finish times closely coordinate between the two distances.\n\n\n\nWheelchair Athletes \n\nThe in-person half-marathon course is fully on road\, with two steeper hills\, and open to traffic. Wheelchair athletes\, special needs strollers\, and certified service animals are welcome on the course.\n\n\n\nThe Maple Run Half-Marathon Course \n\n\n\nThe scenic out-and-back half-marathon course offers well-stocked refreshment stations along the route\, staffed by the North Country's best volunteers.\n\n\n\n5K Course\n\n\n\n5K(ish) participants travel an on- and off-road course through the Village of Canton and the well-maintained trail system of the St. Lawrence University campus.\n\n\n\nShirts\, Medals\, Age-Group Recognition\, and Placement Prizes All registrants for all distances will receive a long-sleeve shirt included in the cost of their entry. All in-person and hybrid participants will receive an iconic Maple Run wooden finisher's medallion.\n\nThe top three placements in each half-marathon age group will receive a special edition Maple Run keychain. Overall 1st-\, 2nd-\, and 3rd-place prizes will be awarded to in-person half-marathon participants in men's\, women's\, and non-binary categories.\n\n\n\nNo placement prizes or age-group awards will be offered to 5K participants.\n\n\n\nSpectators! Watch runners get a start\, take on the course\, or cross the finish line. There is plenty of room at the combined start/finish line for spectators.\n\nFor folk who wish to grace their athlete with the finisher's medal\, arrangements can be made with the volunteers at the finish line.\n\n\n\nThe half-marathon route is open to traffic\, making it easy to reach the halfway point and water stations. Spectators are encouraged to bring signs\, ring cow bells\, and take pictures!\n\nCareful driving is a must!!\n\n\n\nVolunteers\n\n\n\nThe Maple Run loves volunteers! Volunteers receive a Maple Run shirt. Contact Kara at themapleruncanton@gmail.com to volunteer. Thank you!\n\n\n\n2026 Refund Policy and Event Changes\n\nNo refunds will be issued. Registrants can change their run event until April 17.
X-ALT-DESC;FMTTYPE=text/html:The longest continuously held half marathon in St. Lawrence County. The Maple Run celebrates the end of winter\, contributes to economic development in the community\, and supports local youth running programs.<br />\n<br />\n<strong><span style="font-size:14px\;"><span style="font-family:arial\;">Packet Pickup</span></span></strong><br />\nThe Maple Run has gone bagless!<br />\nPlease BYOBag if you wish to haul your SWAG away in one.<br />\nFriday\, April 17\, Packet Pickup and In-Person Registration (CASH ONLY: $80 for Half Marathon\; $60 for 5K\; $5 for Youth Half and 5K) 5 PM to 7:30 PM Canton Pavilion lobby Bend in the River Park 90 Lincoln Street Canton\, NY 13617<br />\n<br />\nSaturday\, April 18\, 2026 Packet Pickup and In-Person Registration 6:30 AM to 8 AM Canton Pavilion lobby Bend in the River ParK.<br />\n<br />\n<strong><span style="font-family:arial\;"><span style="font-size:14px\;">Race-Day Details:</span></span></strong>\n<ul>\n	<li>Half Marathon Start 8:30 AM\,&nbsp\; 5K Start 9:15 Am</li>\n	<li>Start/ Finish line at the Bend in the River Park picnic shelter</li>\n	<li>Placement Awards 11:00/11:15 AM</li>\n	<li>Door Prize Drawing 11:00/11:15 AM</li>\n	<li>Stay for snacks and drinks 10:45 AM to 12:30 PM</li>\n	<li>Parking is available in the Canton Pavilion lot and along Lincoln Street</li>\n	<li>Distances Half marathon: 13.1 miles\, 8:30 AM start</li>\n	<li>5K-ish: around 3.1 miles\, 9:15 AM start</li>\n	<li>In-Person\, Virtual\, or Hybrid The Maple Run welcomes runners at all levels of development and fitness\, so there are many ways to participate.</li>\n</ul>\n<br />\nRunners can graduate from the 5K to the half-marathon\, or sample the half-marathon virtually this year\, on their own or with a group of running buddies\, to prepare for next year.&nbsp\;Participants can also try a bit of both with the hybrid half-marathon option. Half-marathon and 5K distances are offered in both in-person and virtual formats. The half-marathon is only available as a hybrid event. A hybrid participant may finish 10 miles of the half-marathon on a course of their choosing\, indoors or out\, anytime before the 5K start on April 18. The final 3.1 miles are completed at the Maple Run event on Saturday\, April 18.<br />\n<br />\nLow-Cost Youth Registration Participants aged 8 to 17 on the day of the Maple Run may select a low-cost youth 5K or half-marathon entry.<br />\n<br />\nHalf-marathon youth participants are not eligible for age-group and overall placement awards<br />\n<br />\nAll youth registrants will receive a shirt and finisher&#39\;s medallion included in their entry fee<br />\n<br />\nWalk or Run The half-marathon route will remain open for four hours\, so speedy walkers and runner/walkers have time to finish.<br />\nDedicated walkers are encouraged to try the virtual or hybrid option to test their mettle on the half-marathon course or opt for the in-person 5K. The Maple Run start times for the in-person half marathon and 5K are staggered\, so finish times closely coordinate between the two distances.<br />\n<br />\n<span style="font-size:14px\;"><span style="font-family:arial\;"><strong>Wheelchair Athletes </strong></span></span><br />\nThe in-person half-marathon course is fully on road\, with two steeper hills\, and open to traffic. Wheelchair athletes\, special needs strollers\, and certified service animals are welcome on the course.<br />\n<br />\n<span style="font-size:14px\;"><span style="font-family:arial\;"><strong>The Maple Run Half-Marathon Course </strong></span></span><br />\n<br />\nThe scenic out-and-back half-marathon course offers well-stocked refreshment stations along the route\, staffed by the North Country&#39\;s best volunteers.<br />\n<br />\n<strong><span style="font-size:14px\;"><span style="font-family:arial\;">5K Course</span></span></strong><br />\n<br />\n5K(ish) participants travel an on- and off-road course through the Village of Canton and the well-maintained trail system of the St. Lawrence University campus.<br />\n<br />\nShirts\, Medals\, Age-Group Recognition\, and Placement Prizes All registrants for all distances will receive a long-sleeve shirt included in the cost of their entry. All in-person and hybrid participants will receive an iconic Maple Run wooden finisher&#39\;s medallion.<br />\nThe top three placements in each half-marathon age group will receive a special edition Maple Run keychain. Overall 1st-\, 2nd-\, and 3rd-place prizes will be awarded to in-person half-marathon participants in men&#39\;s\, women&#39\;s\, and non-binary categories.<br />\n<br />\nNo placement prizes or age-group awards will be offered to 5K participants.<br />\n<br />\nSpectators! Watch runners get a start\, take on the course\, or cross the finish line. There is plenty of room at the combined start/finish line for spectators.<br />\nFor folk who wish to grace their athlete with the finisher&#39\;s medal\, arrangements can be made with the volunteers at the finish line.<br />\n<br />\nThe half-marathon route is open to traffic\, making it easy to reach the halfway point and water stations. Spectators are encouraged to bring signs\, ring cow bells\, and take pictures!<br />\nCareful driving is a must!!<br />\n<br />\n<span style="font-size:14px\;"><span style="font-family:arial\;"><strong>Volunteers</strong></span></span><br />\n<br />\nThe Maple Run loves volunteers! Volunteers receive a Maple Run shirt. Contact Kara at themapleruncanton@gmail.com to volunteer. Thank you!<br />\n<br />\n<span style="font-size:14px\;"><span style="font-family:arial\;"><strong>2026 Refund Policy and Event Changes</strong></span></span><br />\nNo refunds will be issued. Registrants can change their run event until April 17.
LOCATION:Bend in the River Park 90 Lincoln Street Canton\, NY 13617
UID:e.2288.20730
SEQUENCE:3
DTSTAMP:20260420T051135Z
URL:http://visitstl-gzcms.preview.gochambermaster.com/events/details/the-maple-run-half-marathon-and-5k-04-18-2026-20730
END:VEVENT

END:VCALENDAR
