BEGIN:VCALENDAR
VERSION:2.0
PRODID:-//ChamberMaster//Event Calendar 2.0//EN
METHOD:PUBLISH
X-PUBLISHED-TTL:P3D
REFRESH-INTERVAL:P3D
CALSCALE:GREGORIAN
BEGIN:VEVENT
DTSTART:20250716T213000Z
DTEND:20250716T233000Z
X-MICROSOFT-CDO-ALLDAYEVENT:FALSE
SUMMARY:SLVP Third Wednesday Duathlons
DESCRIPTION:Third Wednesday Duathlons\n\nHosted by: St. Lawrence Valley Paddlers\n\n\n\nHeld on the Little River in Canton\, NY adjacent to the campus of St. Lawrence University\, on the third Wednesday of May - August\, 2025 (May 21\, June 18\, July 16\, and August 20).\n\n	Duathlon consists of a 1.25-mile run\, 1.25-mile paddle\, and completed by another 1.25-mile run.\n	Start and finish line is located near the Little River Boat Launch in Canton at the Park Street (CR 27) bridge.\n	Teams to consist of paddlers and runners\, or solo participants\n	Race registration is free and opens monthly at 5:30pm\n	Duathlons begins monthly at 6:30pm
X-ALT-DESC;FMTTYPE=text/html:<span style="font-size:18px\;"><strong>Third Wednesday Duathlons</strong><br />\nHosted by: St. Lawrence Valley Paddlers</span><br />\n<br />\nHeld on the Little River in Canton\, NY adjacent to the campus of St. Lawrence University\, on the third Wednesday of May - August\, 2025 (May 21\, June 18\, July 16\, and August 20).\n<ul>\n	<li>Duathlon consists of a 1.25-mile run\, 1.25-mile paddle\, and completed by another 1.25-mile run.</li>\n	<li>Start and finish line is located near the Little River Boat Launch in Canton&nbsp\;at the Park Street (CR 27) bridge.</li>\n	<li>Teams to consist&nbsp\;of paddlers and runners\, or solo participants</li>\n	<li>Race registration is free and opens monthly&nbsp\;at 5:30pm</li>\n	<li>Duathlons begins monthly at 6:30pm</li>\n</ul>\n
LOCATION:Park Street Boat Launch Canton\, NY
UID:e.2288.19044
SEQUENCE:3
DTSTAMP:20260421T001417Z
URL:http://visitstl-gzcms.preview.gochambermaster.com/events/details/third-wednesday-duathlons-07-16-2025-19044
END:VEVENT

END:VCALENDAR
