BEGIN:VCALENDAR
VERSION:2.0
PRODID:-//ChamberMaster//Event Calendar 2.0//EN
METHOD:PUBLISH
X-PUBLISHED-TTL:P3D
REFRESH-INTERVAL:P3D
CALSCALE:GREGORIAN
BEGIN:VEVENT
DTSTART:20230926T190000Z
DTEND:20230926T210000Z
X-MICROSOFT-CDO-ALLDAYEVENT:FALSE
SUMMARY:Tourism Task Force Roundtable with Assemblyman Scott Gray
DESCRIPTION:Assemblyman Scott Gray's Tourism Tour\n\nAssemblyman Scott Gray will be hosting a "Tourism Roundtable" to discuss tourism and facilitate discussions on ways to better promote and expand tourism opportunities in New York with a focus on St. Lawrence County. Assemblyman Gray has been conducting a series of stops in different regions of the state throughout the summer and St. Lawrence County is the last stop on his Tourism Tour is scheduled for Tuesday\, September 26 at 3:00pm at Applewood Orchards\, 176 Johnson Road in Rensselaer Falls. \n\n\n\nThe tourism industry is an important component of the county's economy\, and a vibrant tourism industry brings tremendous benefits our county's small businesses and communities\, especially in areas where tourism activity and attractions are most prominent. The Roundtable discussion will be open to area local officials and tourism related businesses. A press conference will follow the discussion at 4:30pm to highlight the work being done by Assemblyman Gray's team.\n\n\n\nInsights and feedback from the forum will be requested upon the Roundtable's conclusion\, for Assemblyman Gray's team to develop a summary of findings and identify possible legislative solutions to help St. Lawrence County tourism reach its full potential. \n\n\n\nINVITATIONS ARE OPEN TO:\n\n	Local officials including Village and Town Supervisors\, Village Planning Boards\, Town Mayors and Supervisors\n	Tourism related businesses such as Restaurants\, Attractions and Hotels\n	Local Press/Media\n	Pre-registration is requested for both media and roundtable attendees.  \n\nCLICK HERE TO REGISTER FOR THE TOURISM TOUR!\n\n\n\nSPECIAL NETWORKING EVENT TO FOLLOW!\n\nThe Tourism Roundtable & Press Conference will conclude prior to the St. Lawrence County Chamber of Commerce's monthly networking B2B "Businesses in the Spotlight" event scheduled for 5:00pm at Applewood Orchards. These two events are partnered together\, but separate registration is required. CLICK HERE for more information on the B2B event and to register!
X-ALT-DESC;FMTTYPE=text/html:<span style="color:#cc0000\;"><span style="font-size:20px\;"><strong>Assemblyman Scott Gray&#39\;s Tourism Tour</strong></span></span><br />\nAssemblyman Scott Gray will be hosting a &quot\;Tourism Roundtable&quot\; to discuss tourism and facilitate discussions on ways to better promote and expand tourism opportunities in New York with a focus on St. Lawrence County. Assemblyman Gray has been conducting a series of stops in different regions of the state throughout the summer and St. Lawrence County is the last stop on his Tourism Tour is scheduled for&nbsp\;Tuesday\, September 26 at 3:00pm at Applewood Orchards\, 176 Johnson Road in Rensselaer Falls.&nbsp\;<br />\n<br />\nThe tourism industry is an important component of the county&#39\;s economy\, and a vibrant tourism industry brings tremendous benefits our county&#39\;s small businesses and communities\, especially in areas where tourism activity and attractions are most prominent. The Roundtable discussion will be open to area local officials and tourism related businesses.&nbsp\;A press conference will follow the discussion at 4:30pm to highlight the work being done by Assemblyman Gray&#39\;s team.<br />\n<br />\nInsights and feedback from the forum will be requested upon the Roundtable&#39\;s conclusion\, for Assemblyman Gray&#39\;s team to develop a summary of findings and identify possible legislative solutions to help St. Lawrence County tourism reach its full potential.&nbsp\;<br />\n<br />\n<strong><u>INVITATIONS ARE OPEN TO:</u></strong>\n<ul>\n	<li><strong>Local officials including Village and Town Supervisors\, Village Planning Boards\, Town Mayors and Supervisors</strong></li>\n	<li><strong>Tourism related businesses such as Restaurants\, Attractions and Hotels</strong></li>\n	<li><strong>Local Press/Media</strong></li>\n	<li>Pre-registration is requested for both media and roundtable attendees.&nbsp\;&nbsp\;</li>\n</ul>\n<span style="font-size:20px\;"><strong><a href="http://events.constantcontact.com/register/event?llr=axublqsab&amp\;oeidk=a07ejzdalt596fc982a" target="_blank"><span style="color: rgb(204\, 0\, 0)\;">CLICK HERE TO REGISTER FOR THE TOURISM TOUR!</span></a></strong></span><br />\n<br />\n<u><strong>SPECIAL NETWORKING EVENT TO FOLLOW!</strong></u><br />\nThe Tourism Roundtable &amp\; Press Conference will conclude prior to the St. Lawrence County Chamber of Commerce&#39\;s monthly networking B2B &quot\;Businesses in the Spotlight&quot\; event scheduled for 5:00pm at Applewood Orchards. These two events are partnered together\, but separate registration is required. <a href="https://business.visitstlc.com/events/details/slccoc-business-in-the-spotlight-at-applewood-orchards-14150?calendarMonth=2023-09-01" target="_blank">CLICK HERE</a> for more information on the B2B event and to register!
LOCATION:Applewood Orchards 176 Johnson Road Rensselaer Falls\, NY 13680
UID:e.2288.14267
SEQUENCE:3
DTSTAMP:20260422T113226Z
URL:http://visitstl-gzcms.preview.gochambermaster.com/events/details/tourism-task-force-roundtable-with-assemblyman-scott-gray-14267
END:VEVENT

END:VCALENDAR
