BEGIN:VCALENDAR
VERSION:2.0
PRODID:-//ChamberMaster//Event Calendar 2.0//EN
METHOD:PUBLISH
X-PUBLISHED-TTL:P3D
REFRESH-INTERVAL:P3D
CALSCALE:GREGORIAN
BEGIN:VEVENT
DTSTART;VALUE=DATE:20250524
DTEND;VALUE=DATE:20250525
TRANSP:TRANSPARENT
X-MICROSOFT-CDO-ALLDAYEVENT:TRUE
SUMMARY:Tri-Town Trail Riders Ride
DESCRIPTION:4th Annual Tri-Town ATV/UYV Trail Riders Ride
X-ALT-DESC;FMTTYPE=text/html:<strong><span style="font-size:18px\;">4th Annual Tri-Town ATV/UYV Trail Riders Ride</span></strong>
LOCATION:Pikes Place | Brasher\, NY
UID:e.2288.20042
SEQUENCE:3
DTSTAMP:20260421T130457Z
URL:http://visitstl-gzcms.preview.gochambermaster.com/events/details/tri-town-trail-riders-ride-20042
END:VEVENT

END:VCALENDAR
