BEGIN:VCALENDAR
VERSION:2.0
PRODID:-//ChamberMaster//Event Calendar 2.0//EN
METHOD:PUBLISH
X-PUBLISHED-TTL:P3D
REFRESH-INTERVAL:P3D
CALSCALE:GREGORIAN
BEGIN:VEVENT
DTSTART;VALUE=DATE:20220218
DTEND;VALUE=DATE:20220221
TRANSP:TRANSPARENT
X-MICROSOFT-CDO-ALLDAYEVENT:TRUE
SUMMARY:Tri-Town Winter Carnival
DESCRIPTION:A winter carnival containing everything from food\, to drinks\, to entertainment\, to tournaments\, a parade and activities for kids!
X-ALT-DESC;FMTTYPE=text/html:A winter carnival containing everything from food\, to drinks\, to entertainment\, to tournaments\, a parade and activities for kids!
LOCATION:Depending on the activity\, the Winter Carnival is split between different businesses in the Tri-Town areas of Brasher Falls\, North Lawrence\, and Winthrop. (A schedule has been uploaded to the Tri-Town Chamber of Commerce Facebook page showing the event\, the time\, and the location.)
UID:e.2288.10891
SEQUENCE:3
DTSTAMP:20260421T051458Z
URL:http://visitstl-gzcms.preview.gochambermaster.com/events/details/tri-town-winter-carnival-10891
END:VEVENT

END:VCALENDAR
