BEGIN:VCALENDAR
VERSION:2.0
PRODID:-//ChamberMaster//Event Calendar 2.0//EN
METHOD:PUBLISH
X-PUBLISHED-TTL:P3D
REFRESH-INTERVAL:P3D
CALSCALE:GREGORIAN
BEGIN:VEVENT
DTSTART:20190508T120000Z
DTEND:20190508T143000Z
X-MICROSOFT-CDO-ALLDAYEVENT:FALSE
SUMMARY:Virtual Viewing Workshop - Preparing to Sell Your Business
DESCRIPTION:Who's invited? Business owners looking to transition their business or entrepreneurs who are interested in taking over an existing business! \n\n\n\nThe Adirondack North Country Association Center For Businesses in Transition is hosting a webinar series on preparing to sell your business.\n\n\n\nJoin us for a Virtual Viewing of this workshop hosted by the Center For Businesses in Transition. For your convenience\, we'll be streaming the Live workshop in Massena at The Shop Around the Corner.\n\nThe workshop is hosted by Franklin County NY Economic DevelopmentTiconderoga Area Chamber of Commerce at the Hotel Saranac in Saranac Lake.\n\n\n\nREGISTER HERE - https://adirondack.org/CBITWorkshopSeries?fbclid=IwAR2DCRJQyn6tlxsZdiAnQx6H9WBBOCUzFtLXVFf2mmiZnzEj5dYIcbdLZIc
X-ALT-DESC;FMTTYPE=text/html:<span style="color: rgb(29\, 33\, 41)\; font-family: Helvetica\, Arial\, sans-serif\; font-size: 14px\; white-space: pre-wrap\;">Who&#39\;s invited? Business owners looking to transition their business or entrepreneurs who are interested in taking over an existing business! </span><br style="color: rgb(29\, 33\, 41)\; font-family: Helvetica\, Arial\, sans-serif\; font-size: 14px\; white-space: pre-wrap\;" />\n<br style="color: rgb(29\, 33\, 41)\; font-family: Helvetica\, Arial\, sans-serif\; font-size: 14px\; white-space: pre-wrap\;" />\n<span style="color: rgb(29\, 33\, 41)\; font-family: Helvetica\, Arial\, sans-serif\; font-size: 14px\; white-space: pre-wrap\;">The </span><a href="https://www.facebook.com/ADKNorthCountry/" style="color: rgb(54\, 88\, 153)\; cursor: pointer\; text-decoration-line: none\; font-family: Helvetica\, Arial\, sans-serif\; font-size: 14px\; white-space: pre-wrap\;" target="_blank">Adirondack North Country Association</a><span style="color: rgb(29\, 33\, 41)\; font-family: Helvetica\, Arial\, sans-serif\; font-size: 14px\; white-space: pre-wrap\;"> Center For Businesses in Transition is hosting a webinar series on preparing to sell your business.</span><br style="color: rgb(29\, 33\, 41)\; font-family: Helvetica\, Arial\, sans-serif\; font-size: 14px\; white-space: pre-wrap\;" />\n<br style="color: rgb(29\, 33\, 41)\; font-family: Helvetica\, Arial\, sans-serif\; font-size: 14px\; white-space: pre-wrap\;" />\n<span style="color: rgb(29\, 33\, 41)\; font-family: Helvetica\, Arial\, sans-serif\; font-size: 14px\; white-space: pre-wrap\;">Join us for a Virtual Viewing of this workshop hosted by the Center For Businesses in Transition. For your convenience\, we&#39\;ll be streaming the Live workshop in Massena at The Shop Around the Corner.<br />\nThe workshop is hosted by </span><a href="https://www.facebook.com/FCNYEconDev/" style="color: rgb(54\, 88\, 153)\; cursor: pointer\; text-decoration-line: none\; font-family: Helvetica\, Arial\, sans-serif\; font-size: 14px\; white-space: pre-wrap\;" target="_blank">Franklin County NY Economic Development</a><a href="https://www.facebook.com/TiconderogaNY/" style="color: rgb(54\, 88\, 153)\; cursor: pointer\; text-decoration-line: none\; font-family: Helvetica\, Arial\, sans-serif\; font-size: 14px\; white-space: pre-wrap\;" target="_blank">Ticonderoga Area Chamber of Commerce</a><span style="color: rgb(29\, 33\, 41)\; font-family: Helvetica\, Arial\, sans-serif\; font-size: 14px\; white-space: pre-wrap\;"> at the </span><a href="https://www.facebook.com/HotelSaranac/" style="color: rgb(54\, 88\, 153)\; cursor: pointer\; text-decoration-line: none\; font-family: Helvetica\, Arial\, sans-serif\; font-size: 14px\; white-space: pre-wrap\;" target="_blank">Hotel Saranac</a><span style="color: rgb(29\, 33\, 41)\; font-family: Helvetica\, Arial\, sans-serif\; font-size: 14px\; white-space: pre-wrap\;"> in Saranac Lake.<br />\n<br />\nREGISTER HERE - </span><span style="font-size:14px\;"><a href="https://adirondack.org/CBITWorkshopSeries?fbclid=IwAR2DCRJQyn6tlxsZdiAnQx6H9WBBOCUzFtLXVFf2mmiZnzEj5dYIcbdLZIc">https://adirondack.org/CBITWorkshopSeries?fbclid=IwAR2DCRJQyn6tlxsZdiAnQx6H9WBBOCUzFtLXVFf2mmiZnzEj5dYIcbdLZIc</a></span>
LOCATION:The Shop Around the Corner (32 Andrews Street\, Massena\, NY)
UID:e.2288.8075
SEQUENCE:3
DTSTAMP:20260426T000927Z
URL:http://visitstl-gzcms.preview.gochambermaster.com/events/details/virtual-viewing-workshop-preparing-to-sell-your-business-8075
END:VEVENT

END:VCALENDAR
