BEGIN:VCALENDAR
VERSION:2.0
PRODID:-//ChamberMaster//Event Calendar 2.0//EN
METHOD:PUBLISH
X-PUBLISHED-TTL:P3D
REFRESH-INTERVAL:P3D
CALSCALE:GREGORIAN
BEGIN:VEVENT
DTSTART:20250405T233000Z
DTEND:20250406T013000Z
X-MICROSOFT-CDO-ALLDAYEVENT:FALSE
SUMMARY:Voctave 'a capella' Live
DESCRIPTION:Voctave a capella\n\nPerforming Live at Hosmer Hall\n\n43rd Annual McElheran Visiting Artists\n\n\n\nVoctave is an 11-member a cappella group from the Central Florida area. Formed in the winter of 2015 by producer and arranger Jamey Ray\, the voices that bring their artistic arrangements to life represent a wealth of diverse backgrounds and musical experiences.\n\n\n\nVoctave members have roots in musical theater\, contemporary Christian music\, barbershop\, pop and choral music. Members of Voctave have performed all over the world and can be heard on countless recordings.\n\n\n\nThe group has performed with Grammy\, Dove and American Music Award winners. With multiple #1 songs and albums on iTunes\, Amazon and Spotify\, Voctave has also ranked in the top 25 on Billboard Magazine's charts.\n\n	Voctave has received more than 150 million views on their videos.\n	Voctave's albums are digitally available on all platforms. \n	Voctave is represented by Opus 3 Artists.
X-ALT-DESC;FMTTYPE=text/html:<span style="font-size:18px\;"><strong>Voctave a capella</strong><br />\nPerforming Live at Hosmer Hall</span><br />\n<em>43rd Annual McElheran Visiting Artists</em><br />\n<br />\nVoctave is an 11-member a cappella group from the Central Florida area. Formed in the winter of 2015 by producer and arranger Jamey Ray\, the voices that bring their artistic arrangements to life represent a wealth of diverse backgrounds and musical experiences.<br />\n<br />\nVoctave members have roots in musical theater\, contemporary Christian music\, barbershop\, pop and choral music. Members of Voctave have performed all over the world and can be heard on countless recordings.<br />\n<br />\nThe group has performed with Grammy\, Dove and American Music Award winners. With multiple #1 songs and albums on iTunes\, Amazon and Spotify\, Voctave has also&nbsp\;ranked in the top 25 on Billboard Magazine&rsquo\;s charts.\n<ul>\n	<li><a href="https://www.youtube.com/channel/UCKb63xBY-hnVbQ82sxfzXEQ" target="_blank">Voctave has received more than 150 million views on their videos</a>.</li>\n	<li>Voctave&rsquo\;s albums are digitally available on all platforms.&nbsp\;</li>\n	<li>Voctave is represented by&nbsp\;<a href="https://www.opus3artists.com/artists/voctave/" target="_blank">Opus 3 Artists</a>.</li>\n</ul>\n
LOCATION:SUNY Potsdam | Hosmer Hall 44 Pierrepont Ave\, Potsdam\, NY 13676 Campus Map
UID:e.2288.20062
SEQUENCE:3
DTSTAMP:20260421T213944Z
URL:http://visitstl-gzcms.preview.gochambermaster.com/events/details/voctave-a-capella-live-20062
END:VEVENT

END:VCALENDAR
