BEGIN:VCALENDAR
VERSION:2.0
PRODID:-//ChamberMaster//Event Calendar 2.0//EN
METHOD:PUBLISH
X-PUBLISHED-TTL:P3D
REFRESH-INTERVAL:P3D
CALSCALE:GREGORIAN
BEGIN:VEVENT
DTSTART:20240608T200000Z
DTEND:20240608T210000Z
X-MICROSOFT-CDO-ALLDAYEVENT:FALSE
SUMMARY:Walk With a Doc
DESCRIPTION:WALK WITH A DOC\n\nSt. Lawrence Health is hosting a Walk With a Doc (WWAD) event on Clarkson's Munter Trail on June 8 at 4:00pm. The theme of this month's WWAD is "A Celebration of Pride Month: St. Lawrence Health's Commitment to Diversity\, Equity\, and Inclusion".\n\n\n\nJoin Dawn White\, PA at Potsdam Primary Care\, Infectious Disease specialists\, Dr. Daniel Soule and NP Jamie Gibson\, and members of the St. Lawrence Health DEI Committee to learn about our commitment to providing quality and compassionate care for all community members.\n\n\n\nEnjoy a beautiful walk along the Raquette River while meeting members of St. Lawrence Health's healthcare team. Water\, healthy snacks\, and giveaways will be provided. All participants will be entered in a drawing for a pair of On athletic shoes. National WWAD events give community members the opportunity to informally interact with healthcare providers while promoting a healthy lifestyle.
X-ALT-DESC;FMTTYPE=text/html:<span style="font-size:20px\;"><strong>WALK WITH A DOC</strong></span><br />\nSt. Lawrence Health is hosting a Walk With a Doc (WWAD) event on Clarkson&#39\;s Munter Trail on June 8 at 4:00pm. The theme of this month&#39\;s WWAD is &quot\;A Celebration of Pride Month: St. Lawrence Health&#39\;s Commitment to Diversity\, Equity\, and Inclusion&quot\;.<br />\n<br />\nJoin Dawn White\, PA at Potsdam Primary Care\, Infectious Disease specialists\, Dr. Daniel Soule and NP Jamie Gibson\, and members of the St. Lawrence Health DEI Committee to learn about our commitment to providing quality and compassionate care for all community members.<br />\n<br />\nEnjoy a beautiful walk along the Raquette River while meeting members of St. Lawrence Health&#39\;s healthcare team. Water\, healthy snacks\, and giveaways will be provided. All participants will be entered in a drawing for a pair of On athletic shoes. National WWAD events give community members the opportunity to informally interact with healthcare providers while promoting a healthy lifestyle.
LOCATION:Clarkson's Munter Trail 26 Maple St.\, Potsdam\, NY Behind Stewart's Shop
UID:e.2288.17910
SEQUENCE:3
DTSTAMP:20260422T020024Z
URL:http://visitstl-gzcms.preview.gochambermaster.com/events/details/walk-with-a-doc-06-08-2024-17910
END:VEVENT

END:VCALENDAR
