BEGIN:VCALENDAR
VERSION:2.0
PRODID:-//ChamberMaster//Event Calendar 2.0//EN
METHOD:PUBLISH
X-PUBLISHED-TTL:P3D
REFRESH-INTERVAL:P3D
CALSCALE:GREGORIAN
BEGIN:VEVENT
DTSTART:20240309T170000Z
DTEND:20240309T200000Z
X-MICROSOFT-CDO-ALLDAYEVENT:FALSE
SUMMARY:Weekly Chess Games
DESCRIPTION:WEEKLY CHESS GAMES\n\nThe Canton Free Library will hold weekly public chess games hosted by the Chess Clubs. They welcome chess players of all ages and levels to partake in our weekly get-togethers! For more details\, contact Ryan at 315.854.6123.\n\n\n\nChess Club   Saturdays | 12-3 PM\n\nJoin us on some Saturdays starting March 9th from 12-3pm for chess club! All levels are welcome to join the Chess Club. Unlike Chess Free Play on Tuesdays\, Chess Club offers instruction to those interested.\n\n\n\nChess Free Play   Tuesdays | 4-6 PM\n\nJoin us on Tuesdays from 4-6pm for open chess! All levels are welcome for free play.
X-ALT-DESC;FMTTYPE=text/html:<span style="font-size:20px\;"><strong>WEEKLY CHESS GAMES</strong></span><br />\nThe Canton Free Library will hold weekly public chess games hosted by the Chess Clubs.&nbsp\;They welcome chess players of all ages and levels to partake in our weekly get-togethers!&nbsp\;For more details\, contact Ryan at 315.854.6123.<br />\n<br />\n<strong>Chess Club &ndash\; Saturdays | 12-3 PM</strong><br />\nJoin us on&nbsp\;some&nbsp\;Saturdays starting March 9th from 12-3pm for chess club! All levels are welcome to join the&nbsp\;Chess Club. Unlike&nbsp\;Chess Free Play&nbsp\;on Tuesdays\,&nbsp\;Chess Club&nbsp\;offers instruction to those interested.<br />\n<br />\n<strong>Chess Free Play &ndash\; Tuesdays | 4-6 PM</strong><br />\nJoin us on Tuesdays from 4-6pm for open chess! All levels are welcome for free play.
LOCATION:Canton Free Library
UID:e.2288.16835
SEQUENCE:3
DTSTAMP:20260422T015940Z
URL:http://visitstl-gzcms.preview.gochambermaster.com/events/details/weekly-chess-games-16835
END:VEVENT

END:VCALENDAR
