BEGIN:VCALENDAR
VERSION:2.0
PRODID:-//ChamberMaster//Event Calendar 2.0//EN
METHOD:PUBLISH
X-PUBLISHED-TTL:P3D
REFRESH-INTERVAL:P3D
CALSCALE:GREGORIAN
BEGIN:VEVENT
DTSTART;VALUE=DATE:20230723
DTEND;VALUE=DATE:20230724
TRANSP:TRANSPARENT
X-MICROSOFT-CDO-ALLDAYEVENT:TRUE
SUMMARY:Yellow Barn Concert Series: Summer Afternoon Soiree
DESCRIPTION:YELLOW BARN CONCERT SERIES\n\nThe Iva Smith Memorial Gallery of Fine Art will host a summer concert series with various dates held June - September. Listeners are invited to ask the performers questions and see their instruments at close hand. \n\n\n\nSUMMER AFTERNOON SONG SOIREE ft. Ivy Walz (vocalist) and Pej Reitz (Pianis) to perform on Sunday\, July 23 at 3:00pm.\n\nAn enchanting program of art song from Spain\, France\, Germany\, Austria\, Italy and the United States from the 18th to the 20th century\, enjoy rich colors and a variety of texts that will allow the audience to enjoy the vibrations of summer. This program has something for everyone!\n\n\n\nIvy Walz   mezzo soprano. Dr. Ivy Walz currently serves as an Associate Dean at the Ithaca College School of Music\, Theatre\, and Dance where she is also an Associate Professor of Voice. Her credits in opera include appearances with Cincinnati Opera\, Syracuse Opera\, Des Moines Metro Opera\, the Spoleto Festival\, Opera Ithaca\, Tri- Cities Opera and Resonance Works. She is an active concert soloist\, and has been featured with Symphoria Syracuse\, Binghamton Philharmonic\, Akron Symphony\, Cayuga Chamber Orchestra\, and the Orchestra of the Southern Finger Lakes. Her scholarship within art song has brought invited performances with the International Music by Women Festival\, Fall Island Vocal Arts Seminar\, Finger Lakes Chamber Ensemble\, SongFest\, Cincinnati Song Initiative\, Denver Art Song Project\, Civic Morning Musicals\, and Middlebury Song Fest. Her most recent performances have centered the works of women composers. She holds the DMA from the College Conservatory of Music at the University of Cincinnati and a BM and MM from Ithaca College.\n\n\n\nPej Reitz - pianist\, is a native of the Binghamton Area. She received her Bachelor and Master of Music degrees in piano performance with accompanying emphasis. She attended Boston University\, New England Conservatory and Binghamton University. She has studied piano with Jean Casadesus\, Victor Rosenbaum\, Seymour Fink and Walter Ponce and accompanying with Allen Rogers. She has accompanied throughout the United States\, in England\, South America\, Spain and at the American Institute of Musical Studies in Graz\, Austria. She was a winner of the Artistic Ambassadors Program by the United States Information Agency in partnership with the John F. Kennedy Center for the performing arts.\n\n\n\n2023 Yellow Barn Concert Schedule\n\nJune 11: FIDDLERS THREE at 5:00pm\n\nJune 18: WORLD ON A STRING at 5:00pm\n\nJuly 12: CANTIGA at 5:00pm\n\nJuly 23: SUMMER AFTERNOON SONG SOIREE FT. IVY WALZ & PEJ REITZ at 3:00pm\n\nJuly 30: A GATHERING OF VOICES at 5:00pm\n\nAugust 13: SING-ALONG\, PLAY-ALONG JAM WITH BARB HELLER at 5:00pm\n\nSeptember 9: THE ATKINSON FAMILY BAND CONCERT at 7:00pm\n\nSeptember 17: CARAMELO TRIO PRESENTS: A SOUND TAPESTRY SOUTH OF THE BORDER at 5:00pm\n\nSeptember 23: MAEVE GILCHRIST at 2:00pm
X-ALT-DESC;FMTTYPE=text/html:<span style="color:rgb(218\, 165\, 32)"><strong>YELLOW BARN CONCERT SERIES</strong></span><br />\nThe Iva Smith Memorial Gallery of Fine Art will host a summer concert series with various dates held June - September. Listeners are invited to ask the performers questions and see their instruments at close hand.&nbsp\;<br />\n<br />\n<strong>SUMMER AFTERNOON SONG SOIREE ft. Ivy Walz (vocalist) and Pej Reitz (Pianis)</strong>&nbsp\;<strong>to perform on Sunday\, July 23 at 3:00pm.</strong><br />\n<em>An enchanting program of art song from Spain\, France\, Germany\, Austria\, Italy and the United States from the 18th to the 20th century\, enjoy rich colors and a variety of texts that will allow the audience to enjoy the vibrations of summer. This program has something for everyone!<br />\n<br />\nIvy Walz &ndash\; mezzo soprano. Dr. Ivy Walz currently serves as an Associate Dean at the Ithaca College School of Music\, Theatre\, and Dance where she is also an Associate Professor of Voice. Her credits in opera include appearances with Cincinnati Opera\, Syracuse Opera\, Des Moines Metro Opera\, the Spoleto Festival\, Opera Ithaca\, Tri- Cities Opera and Resonance Works. She is an active concert soloist\, and has been featured with Symphoria Syracuse\, Binghamton Philharmonic\, Akron Symphony\, Cayuga Chamber Orchestra\, and the Orchestra of the Southern Finger Lakes. Her scholarship within art song has brought invited performances with the International Music by Women Festival\, Fall Island Vocal Arts Seminar\, Finger Lakes Chamber Ensemble\, SongFest\, Cincinnati Song Initiative\, Denver Art Song Project\, Civic Morning Musicals\, and Middlebury Song Fest. Her most recent performances have centered the works of women composers. She holds the DMA from the College Conservatory of Music at the University of Cincinnati and a BM and MM from Ithaca College.<br />\n<br />\nPej Reitz - pianist\, is a native of the Binghamton Area. She received her Bachelor and Master of Music degrees in piano performance with accompanying emphasis. She attended Boston University\, New England Conservatory and Binghamton University. She has studied piano with Jean Casadesus\, Victor Rosenbaum\, Seymour Fink and Walter Ponce and accompanying with Allen Rogers. She has accompanied throughout the United States\, in England\, South America\, Spain and at the American Institute of Musical Studies in Graz\, Austria. She was a winner of the Artistic Ambassadors Program by the United States Information Agency in partnership with the John F. Kennedy Center for the performing arts.</em><br />\n<br />\n<span style="color:rgb(218\, 165\, 32)"><u><strong>2023 Yellow Barn Concert Schedule</strong></u></span><br />\nJune 11: FIDDLERS THREE at 5:00pm<br />\nJune 18: WORLD ON A STRING at 5:00pm<br />\nJuly 12: CANTIGA at 5:00pm<br />\nJuly 23: SUMMER AFTERNOON SONG SOIREE FT. IVY WALZ &amp\; PEJ REITZ at 3:00pm<br />\nJuly 30: A GATHERING OF VOICES at 5:00pm<br />\nAugust 13: SING-ALONG\, PLAY-ALONG JAM WITH BARB HELLER at 5:00pm<br />\nSeptember 9: THE ATKINSON FAMILY BAND CONCERT at 7:00pm<br />\nSeptember 17: CARAMELO TRIO PRESENTS: A SOUND TAPESTRY SOUTH OF THE BORDER at 5:00pm<br />\nSeptember 23: MAEVE GILCHRIST at 2:00pm
LOCATION:The Iva Smith Memorial Gallery of Fine Art's Yellow Barn 627 State Highway 37 Hammond\, NY 13646
UID:e.2288.14115
SEQUENCE:3
DTSTAMP:20260422T065209Z
URL:http://visitstl-gzcms.preview.gochambermaster.com/events/details/yellow-barn-concert-series-summer-afternoon-soiree-14115
END:VEVENT

END:VCALENDAR
