BEGIN:VCALENDAR
VERSION:2.0
PRODID:-//ChamberMaster//Event Calendar 2.0//EN
METHOD:PUBLISH
X-PUBLISHED-TTL:P3D
REFRESH-INTERVAL:P3D
CALSCALE:GREGORIAN
BEGIN:VEVENT
DTSTART:20241005T140000Z
DTEND:20241005T200000Z
X-MICROSOFT-CDO-ALLDAYEVENT:FALSE
SUMMARY:Antique Show
DESCRIPTION:ANTIQUE SHOW\n\n\n\nThe St. Lawrence Valley Antique Dealers Association is hosting an Antique Show. Many vendors\, much variety. Saturday\, Oct.5\, 10-4\, Market Square Mall\, Potsdam\, NY.
X-ALT-DESC;FMTTYPE=text/html:<span style="font-size:18px\;"><strong>ANTIQUE SHOW</strong></span><br />\n<br />\nThe St. Lawrence Valley Antique Dealers Association is hosting an Antique Show. Many vendors\, much variety. Saturday\, Oct.5\, 10-4\, Market Square Mall\, Potsdam\, NY.
LOCATION:Market Square Mall 22 Depot Museum Potsdam\, NY
UID:e.2288.18635
SEQUENCE:3
DTSTAMP:20260421T232704Z
URL:https://visitstl-gzcms.preview.gochambermaster.com/events/details/antique-show-18635
END:VEVENT

END:VCALENDAR
