BEGIN:VCALENDAR
VERSION:2.0
PRODID:-//ChamberMaster//Event Calendar 2.0//EN
METHOD:PUBLISH
X-PUBLISHED-TTL:P3D
REFRESH-INTERVAL:P3D
CALSCALE:GREGORIAN
BEGIN:VEVENT
DTSTART:20241110T020000Z
DTEND:20241109T200000Z
X-MICROSOFT-CDO-ALLDAYEVENT:FALSE
SUMMARY:Canton Booster Club Craft & Vendor Show
DESCRIPTION:Canton Booster Club Craft & Vendor Show
X-ALT-DESC;FMTTYPE=text/html:<span style="font-size:18px\;"><strong>Canton Booster Club Craft &amp\; Vendor Show</strong></span>
LOCATION:Canton Central School (High School Gym) 99 State Street Canton\, NY
UID:e.2288.18638
SEQUENCE:3
DTSTAMP:20260422T012326Z
URL:https://visitstl-gzcms.preview.gochambermaster.com/events/details/canton-booster-club-craft-vendor-show-11-09-2024-18638
END:VEVENT

END:VCALENDAR
