BEGIN:VCALENDAR
VERSION:2.0
PRODID:-//ChamberMaster//Event Calendar 2.0//EN
METHOD:PUBLISH
X-PUBLISHED-TTL:P3D
REFRESH-INTERVAL:P3D
CALSCALE:GREGORIAN
BEGIN:VEVENT
DTSTART:20241025T210000Z
DTEND:20241026T000000Z
X-MICROSOFT-CDO-ALLDAYEVENT:FALSE
SUMMARY:Dinner and a Show
DESCRIPTION:The White Silo will be hosting a dinner with a Comedian - Moody McCarthy\n\n\n\nFind us on Facebook to buy tickets (The White Silo at Saphead)
X-ALT-DESC;FMTTYPE=text/html:The White Silo will be hosting a dinner with a Comedian - Moody McCarthy<br />\n<br />\nFind us on Facebook to buy tickets (<a href="https://www.facebook.com/TheWhiteSiloNY/" target="_blank">The White Silo at Saphead</a>)
LOCATION:The White Silo 5355 County Route 27 Canton\, NY 13617
UID:e.2288.18681
SEQUENCE:3
DTSTAMP:20260422T013611Z
URL:https://visitstl-gzcms.preview.gochambermaster.com/events/details/dinner-and-a-show-18681
END:VEVENT

END:VCALENDAR
