BEGIN:VCALENDAR
VERSION:2.0
PRODID:-//ChamberMaster//Event Calendar 2.0//EN
METHOD:PUBLISH
X-PUBLISHED-TTL:P3D
REFRESH-INTERVAL:P3D
CALSCALE:GREGORIAN
BEGIN:VEVENT
DTSTART:20240904T150000Z
DTEND:20240904T170000Z
X-MICROSOFT-CDO-ALLDAYEVENT:FALSE
SUMMARY:Dog Days of Summer Craft Series
DESCRIPTION:DOG DAYS OF SUMMER CRAFT SERIES\n\nBeat the summer boredom with the enRiCH group's Dog Days Of Summer Craft Series at Russell Public Library every Wednesday in August from 11 a.m.-1 p.m. Youngsters can enjoy free craft sessions\, and you can choose to stay or drop them off. Don't forget to pack a snack and water bottle. All materials will be provided! For more details search Dog Days Of Summer Craft Series on Facebook.
X-ALT-DESC;FMTTYPE=text/html:<span style="font-size:20px\;"><strong>DOG DAYS OF SUMMER CRAFT SERIES</strong></span><br />\nBeat the summer boredom with the enRiCH group&#39\;s Dog Days Of Summer Craft Series at Russell Public Library every Wednesday in August from 11 a.m.-1 p.m. Youngsters can enjoy free craft sessions\, and you can choose to stay or drop them off. Don&#39\;t forget to pack a snack and water bottle. All materials will be provided! For more details search Dog Days Of Summer Craft Series on Facebook.
LOCATION:Russell Public Library 24 Pestle Street Road Russell\, NY 13684
UID:e.2288.18547
SEQUENCE:3
DTSTAMP:20260422T012155Z
URL:https://visitstl-gzcms.preview.gochambermaster.com/events/details/dog-days-of-summer-craft-series-09-04-2024-18547
END:VEVENT

END:VCALENDAR
