BEGIN:VCALENDAR
VERSION:2.0
PRODID:-//ChamberMaster//Event Calendar 2.0//EN
METHOD:PUBLISH
X-PUBLISHED-TTL:P3D
REFRESH-INTERVAL:P3D
CALSCALE:GREGORIAN
BEGIN:VEVENT
DTSTART:20241019T180000Z
DTEND:20241019T210000Z
X-MICROSOFT-CDO-ALLDAYEVENT:FALSE
SUMMARY:Down Syndrome Autumn Up Fest
DESCRIPTION:Down Syndrome Autumn Up Fest\n\n\n\nThe Down Syndrome Association of St. Lawrence County\, is sponsoring a celebration of our friends and families of those who are extra special. Saturday October 19 from 2pm-5pm\, at Applewood Orchards in Rensselaer Falls\, NY. Games\, crafts\, food and drink along with all the Orchard offers.
X-ALT-DESC;FMTTYPE=text/html:<span style="font-size:18px\;"><strong>Down Syndrome Autumn Up Fest</strong></span><br />\n<br />\nThe Down Syndrome Association of St. Lawrence County\, is sponsoring a celebration of our friends and families of those who are extra special. Saturday October 19 from 2pm-5pm\, at Applewood Orchards in Rensselaer Falls\, NY. Games\, crafts\, food and drink along with all the Orchard offers.
LOCATION:Applewood Orchards 176 Johnson Rd Rensellaer Falls\, NY
UID:e.2288.18636
SEQUENCE:3
DTSTAMP:20260421T234007Z
URL:https://visitstl-gzcms.preview.gochambermaster.com/events/details/down-syndrome-autumn-up-fest-18636
END:VEVENT

END:VCALENDAR
