BEGIN:VCALENDAR
VERSION:2.0
PRODID:-//ChamberMaster//Event Calendar 2.0//EN
METHOD:PUBLISH
X-PUBLISHED-TTL:P3D
REFRESH-INTERVAL:P3D
CALSCALE:GREGORIAN
BEGIN:VEVENT
DTSTART:20240928T140000Z
DTEND:20240928T153000Z
X-MICROSOFT-CDO-ALLDAYEVENT:FALSE
SUMMARY:Dulcimer Playing & Building Beginners
DESCRIPTION:Dulcimer Playing & Building\n\n\n\nIn this workshop series\, professional artist and teacher Dan Duggan will teach hands on workshops in Hammered Dulcimer playing and making. It is preferred that participants in each respective category are able to attend all the sessions. Session is for beginners and past beginners. On Saturday\, November 16th - there will also be another workshop plus a performance!
X-ALT-DESC;FMTTYPE=text/html:<p><strong><span style="font-size:18px\;">Dulcimer Playing &amp\; Building</span></strong><br />\n<br />\nIn this workshop series\, professional artist and teacher Dan Duggan will teach hands on workshops in Hammered Dulcimer playing and making. It is preferred that participants in each respective category are able to attend all the sessions. Session is for beginners and past beginners. On&nbsp\;Saturday\, November 16th&nbsp\;- there will also be another workshop plus a performance!</p>\n
LOCATION:The TAUNY Center
UID:e.2288.18621
SEQUENCE:3
DTSTAMP:20260422T025243Z
URL:https://visitstl-gzcms.preview.gochambermaster.com/events/details/dulcimer-playing-building-beginners-18621
END:VEVENT

END:VCALENDAR
