BEGIN:VCALENDAR
VERSION:2.0
PRODID:-//ChamberMaster//Event Calendar 2.0//EN
METHOD:PUBLISH
X-PUBLISHED-TTL:P3D
REFRESH-INTERVAL:P3D
CALSCALE:GREGORIAN
BEGIN:VEVENT
DTSTART:20240817T100000Z
DTEND:20240817T180000Z
X-MICROSOFT-CDO-ALLDAYEVENT:FALSE
SUMMARY:Elite Kayak Fishing
DESCRIPTION:ELITE KAYAK FISHING\n\n\n\nThe fourth Elite Kayak Fishing event of 2024 will take place on the St. Lawrence River\, to the northern stretch between Ogdensburg and just beyond Massena.\n\n\n\nWith roughly 50 miles of prime St. Lawrence River in bounds\, EKF has also added the Grasse River and Raquette River as eligible water. While the St. Lawrence River is known for its world-class smallmouth bass fishing\, both the Grasse River and Raquette River offer excellent shallow-water bass fishing as well.
X-ALT-DESC;FMTTYPE=text/html:<strong><span style="font-size:20px\;">ELITE KAYAK FISHING</span></strong><br />\n<br />\nThe fourth Elite Kayak Fishing event of 2024 will take place on the St. Lawrence River\, to the northern stretch between Ogdensburg and just beyond Massena.<br />\n<br />\nWith roughly 50 miles of prime St. Lawrence River in bounds\, EKF has also added the Grasse River and Raquette River as eligible water. While the St. Lawrence River is known for its world-class smallmouth bass fishing\, both the Grasse River and Raquette River offer excellent shallow-water bass fishing as well.
LOCATION:Massena Intake Dam/Boat Launch 1415 State Highway 131 Massena\, NY
UID:e.2288.18553
SEQUENCE:3
DTSTAMP:20260422T044904Z
URL:https://visitstl-gzcms.preview.gochambermaster.com/events/details/elite-kayak-fishing-18553
END:VEVENT

END:VCALENDAR
