BEGIN:VCALENDAR
VERSION:2.0
PRODID:-//ChamberMaster//Event Calendar 2.0//EN
METHOD:PUBLISH
X-PUBLISHED-TTL:P3D
REFRESH-INTERVAL:P3D
CALSCALE:GREGORIAN
BEGIN:VEVENT
DTSTART:20241005T160000Z
DTEND:20241005T170000Z
X-MICROSOFT-CDO-ALLDAYEVENT:FALSE
SUMMARY:Fall Family Weekend Woodworking Geometric Art
DESCRIPTION:Woodworking Geometric Art\n\nJoin The TAUNY Center for a fun and creative drop-in workshop\, where you'll transform simple wooden lath pieces into geometric artworks! The hands-on experience encourages creativity to paint\, assemble and enjoy your collaborative artwork. This will take place directly after the Woodworking Wall Art Workshop (10am-12pm) $10 registration fee.  Led by Kate Schuler. Ages 4 and up.\n\nThis workshop is made possible in part by the Cloudsplitter Foundation.
X-ALT-DESC;FMTTYPE=text/html:<p><span style="font-size:18px\;"><strong>Woodworking Geometric Art</strong></span></p>\n\n<p>Join The TAUNY Center&nbsp\;for a fun and creative drop-in workshop\, where you&rsquo\;ll transform simple wooden lath pieces into geometric artworks! The hands-on experience encourages creativity to paint\, assemble and enjoy your collaborative artwork.&nbsp\;This will take place directly after the Woodworking Wall Art Workshop (10am-12pm) $10 registration fee. &nbsp\;Led by Kate Schuler.&nbsp\;Ages 4 and up.</p>\n\n<p><em><strong>This workshop is made possible in part by the Cloudsplitter Foundation</strong></em>.</p>\n
LOCATION:The TAUNY Center 53 Main Street\, Canton\, NY
UID:e.2288.18735
SEQUENCE:3
DTSTAMP:20260421T215206Z
URL:https://visitstl-gzcms.preview.gochambermaster.com/events/details/fall-family-weekend-woodworking-geometric-art-18735
END:VEVENT

END:VCALENDAR
