BEGIN:VCALENDAR
VERSION:2.0
PRODID:-//ChamberMaster//Event Calendar 2.0//EN
METHOD:PUBLISH
X-PUBLISHED-TTL:P3D
REFRESH-INTERVAL:P3D
CALSCALE:GREGORIAN
BEGIN:VEVENT
DTSTART:20240814T220000Z
DTEND:20240814T233000Z
X-MICROSOFT-CDO-ALLDAYEVENT:FALSE
SUMMARY:Historical Walk & Talk
DESCRIPTION:HISTORICAL WALK & TALK \n\n\n\nOn August 14th at 6pm\, history enthusiasts and curious individuals are invited to join the Walk and Talk tour\, a unique walking tour that will take participants on a journey through the rich history of Ogdensburg. Led by City Historian Julie Madlin\, the tour will focus on the homes\, buildings\, and prominent people who once lived on Caroline St.\n\n\n\nThe Walk and Talk tour is a great opportunity for locals and visitors alike to learn about the fascinating history of Ogdensburg. Participants will meet on the steps of the Ogdensburg Public Library before 6pm\, where they will be greeted by Madlin. The tour will last approximately one hour and will cover a distance of about one mile. The tour will highlight the stories and legacies of the people who once called Caroline St. their home\, as well as the architectural significance of the buildings that still stand today.
X-ALT-DESC;FMTTYPE=text/html:<strong><span style="font-size:20px\;">HISTORICAL WALK &amp\; TALK</span> </strong><br />\n<br />\nOn August 14th at 6pm\, history enthusiasts and curious individuals are invited to join the Walk and Talk tour\, a unique walking tour that will take participants on a journey through the rich history of Ogdensburg. Led by City Historian Julie Madlin\, the tour will focus on the homes\, buildings\, and prominent people who once lived on Caroline St.<br />\n<br />\nThe Walk and Talk tour is a great opportunity for locals and visitors alike to learn about the fascinating history of Ogdensburg. Participants will meet on the steps of the Ogdensburg Public Library before 6pm\, where they will be greeted by Madlin. The tour will last approximately one hour and will cover a distance of about one mile. The tour will highlight the stories and legacies of the people who once called Caroline St. their home\, as well as the architectural significance of the buildings that still stand today.
LOCATION:Ogdensburg Public Library 312 Washington St.\, Ogdensburg\, NY
UID:e.2288.18549
SEQUENCE:3
DTSTAMP:20260422T044635Z
URL:https://visitstl-gzcms.preview.gochambermaster.com/events/details/historical-walk-talk-18549
END:VEVENT

END:VCALENDAR
