BEGIN:VCALENDAR
VERSION:2.0
PRODID:-//ChamberMaster//Event Calendar 2.0//EN
METHOD:PUBLISH
X-PUBLISHED-TTL:P3D
REFRESH-INTERVAL:P3D
CALSCALE:GREGORIAN
BEGIN:VEVENT
DTSTART:20241019T140000Z
DTEND:20241019T160000Z
X-MICROSOFT-CDO-ALLDAYEVENT:FALSE
SUMMARY:Indian Samosas\, Chutney and Chai\, with Geetika & Rajiv Narula
DESCRIPTION:Indian Samosas\, Chutney and Chai with Geetika and Rajiv Narula\n\n\n\nThe first image that pops into the mind when you think of an Indian snack is the samosa. These delicious fried parcels of flaky-yet-tender pastry\, stuffed with spiced potatoes\, are part of the Indian culinary experience. Found in every corner of India with their own regional variations\, they are best served with chutney and a hot cup of chai. Chai is a way of life in India - an integral part of the daily routine for most people. Almost everywhere you go- in trains\, on streets\, shops or malls - you will see people relishing this hot beverage. What we think of in America as this highly specialized drink is the humble yet essential chai in India.\n\nJoin Geetika and Rajiv Narula to learn how to make samosas with chutney and chai as they share their stories of India and their passion for cooking and sharing food.\n\nThis event is part of TAUNY's Kitchen Stories series\, which invites home cooks to prepare a meal in The TAUNY Center's demonstration kitchen and share stories and memories associated with a beloved family recipe or cultural food tradition. Participants can help prepare food\, learn how to cook special dishes\, and get to know each other. Once the food is ready\, we can all relax and enjoy our meal together in great company!
X-ALT-DESC;FMTTYPE=text/html:<p><span style="font-size:18px\;"><strong>Indian Samosas\, Chutney and Chai with Geetika and Rajiv Narula</strong></span><br />\n<br />\nThe first image that pops into the mind when you think of an Indian snack is the samosa. These delicious fried parcels of flaky-yet-tender pastry\, stuffed with spiced potatoes\, are part of the Indian culinary experience. Found in every corner of India with their own regional variations\, they are best served with chutney and a hot cup of chai. Chai is a way of life in India - an integral part of the daily routine for most people. Almost everywhere you go- in trains\, on streets\, shops or malls - you will see people relishing this hot beverage. What we think of in America as this highly specialized drink is the humble yet essential chai in India.</p>\n\n<p>Join Geetika and Rajiv Narula to learn how to make samosas with chutney and chai as they share their stories of India and their passion for cooking and sharing food.</p>\n\n<p>This event is part of TAUNY&#39\;s Kitchen Stories series\, which invites home cooks to prepare a meal in The TAUNY Center&rsquo\;s demonstration kitchen and share stories and memories associated with a beloved family recipe or cultural food tradition. Participants can help prepare food\, learn how to cook special dishes\, and get to know each other. Once the food is ready\, we can all relax and enjoy our meal together in great company!</p>\n
LOCATION:The TAUNY Center 53 Main St. Canton\, NY
UID:e.2288.18734
SEQUENCE:3
DTSTAMP:20260421T234330Z
URL:https://visitstl-gzcms.preview.gochambermaster.com/events/details/indian-samosas-chutney-and-chai-with-geetika-rajiv-narula-18734
END:VEVENT

END:VCALENDAR
