BEGIN:VCALENDAR
VERSION:2.0
PRODID:-//ChamberMaster//Event Calendar 2.0//EN
METHOD:PUBLISH
X-PUBLISHED-TTL:P3D
REFRESH-INTERVAL:P3D
CALSCALE:GREGORIAN
BEGIN:VEVENT
DTSTART:20241108T233000Z
DTEND:20241109T013000Z
X-MICROSOFT-CDO-ALLDAYEVENT:FALSE
SUMMARY:Jazz and Coffee Night
DESCRIPTION:Jazz and Coffee Night\n\nFeat. The 5 Dots\n\n\n\nThe Unitarian Universalist Church will host a Jazz and Coffee Night on Friday\, November 8 featuring The 5 Dots\, with local musicians John Danis on an electric wind instrument and vocals\, the Rev. James Galasinski on bass\, Steve Manders on drums\, Tim Savage on piano\, and Hailey Hodge on smooth and silky vocals.\n\n\n\nThe quintet will play two sets of favorite jazz standards and originals and include music by Herbie Hancock\, Miles Davis\, Stan Getz\, and other legendary jazz artists. Performances are staged in a jazz cafe lounge set up\, are family-friendly\, and hosted in a supportive and alcohol-free environment. The coffee bar will include coffee\, various teas and herbals\, and hot chocolate. All jazz and coffee bar nights are free and open to the public and welcoming to all.
X-ALT-DESC;FMTTYPE=text/html:<strong><span style="font-size: 18px\;">Jazz and Coffee Night</span></strong><br />\n<span style="font-size: 18px\;">Feat. The 5 Dots</span><br />\n<br />\nThe Unitarian Universalist Church will host a Jazz and Coffee Night on Friday\, November 8 featuring The 5 Dots\, with local musicians John Danis on an electric wind instrument and vocals\, the Rev. James Galasinski on bass\, Steve Manders on drums\, Tim Savage on piano\, and Hailey Hodge on smooth and silky vocals.<br />\n<br />\nThe quintet will play two sets of favorite jazz standards and originals and include music by Herbie Hancock\, Miles Davis\, Stan Getz\, and other legendary jazz artists. Performances are staged in a jazz cafe lounge set up\, are family-friendly\, and hosted in a supportive and alcohol-free environment. The coffee bar will include coffee\, various teas and herbals\, and hot chocolate. All jazz and coffee bar nights are free and open to the public and welcoming to all.&nbsp\;
LOCATION:Unitarian Universalist Church of Canton NY 3 1/2 East Main St. Canton\, NY
UID:e.2288.18674
SEQUENCE:3
DTSTAMP:20260422T044946Z
URL:https://visitstl-gzcms.preview.gochambermaster.com/events/details/jazz-and-coffee-night-11-08-2024-18674
END:VEVENT

END:VCALENDAR
