BEGIN:VCALENDAR
VERSION:2.0
PRODID:-//ChamberMaster//Event Calendar 2.0//EN
METHOD:PUBLISH
X-PUBLISHED-TTL:P3D
REFRESH-INTERVAL:P3D
CALSCALE:GREGORIAN
BEGIN:VEVENT
DTSTART:20241011T223000Z
DTEND:20241012T003000Z
X-MICROSOFT-CDO-ALLDAYEVENT:FALSE
SUMMARY:Jazz and Coffee Night
DESCRIPTION:Jazz and Coffee Night\n\nFeat. Paul Meyers and Matt Dunne Duo\n\n\n\nThe Unitarian Universalist Church will host a Jazz and Coffee Night on Friday\, October 11 with guest musicians the Paul Meyers and Matt Dunne Duo. Potsdam native\, Paul Meyers\, has played around the world\, and while living in New York City has made a name for himself as one of the best jazz guitarists in the country. Performances are staged in a jazz cafe lounge set up\, are family-friendly\, and hosted in a supportive and alcohol-free environment. The coffee bar will include coffee\, various teas and herbals\, and hot chocolate. All jazz and coffee bar nights are free and open to the public.
X-ALT-DESC;FMTTYPE=text/html:<strong><span style="font-size:18px\;">Jazz and Coffee Night</span></strong><br />\n<span style="font-size:18px\;">Feat.&nbsp\;Paul Meyers and Matt Dunne Duo</span><br />\n<br />\nThe Unitarian Universalist Church will host a Jazz and Coffee Night on Friday\, October 11 with guest musicians the Paul Meyers and Matt Dunne Duo. Potsdam native\, Paul Meyers\, has played around the world\, and while living in New York City has made a name for himself as one of the best jazz guitarists in the country. Performances are staged in a jazz cafe lounge set up\, are family-friendly\, and hosted in a supportive and alcohol-free environment. The coffee bar will include coffee\, various teas and herbals\, and hot chocolate. All jazz and coffee bar nights are free and open to the public.&nbsp\;
LOCATION:Unitarian Universalist Church of Canton NY 3 1/2 East Main St. Canton\, NY
UID:e.2288.18672
SEQUENCE:3
DTSTAMP:20260421T231938Z
URL:https://visitstl-gzcms.preview.gochambermaster.com/events/details/jazz-and-coffee-night-18672
END:VEVENT

END:VCALENDAR
