BEGIN:VCALENDAR
VERSION:2.0
PRODID:-//ChamberMaster//Event Calendar 2.0//EN
METHOD:PUBLISH
X-PUBLISHED-TTL:P3D
REFRESH-INTERVAL:P3D
CALSCALE:GREGORIAN
BEGIN:VEVENT
DTSTART:20240824T000000Z
DTEND:20240824T020000Z
X-MICROSOFT-CDO-ALLDAYEVENT:FALSE
SUMMARY:Kids Fluorescent Mineral Hunt
DESCRIPTION:KIDS FLUORESCENT MINERAL HUNT\n\nThis family friendly events hosted by the St. Lawrence Rock & Mineral Club will get the kids excited to search for "rocks that glow in the dark"! Just before dusk certain minerals fluoresce (glow) when exposed to ultraviolet ("black") light\, such as the white calcite from the Balmat Mines fluoresces red when viewed under black light. Other minerals glow red too\, or green\, blue\, purple\, or yellow. The St. Lawrence Rock & Mineral Club guarantees that samples of these minerals will be available for kids to find during the mineral hunt!\n\n\n\nAdmission to the hunt is free. Each child (age 12 or under) will be able to borrow a portable black light to use in the search. Kids will be allowed to keep all the minerals that they find. \n\n\n\nThe hunt begins Friday\, the 23rd outside the Pavilion in Canton\, NY at dark (approx. 8:00 pm) and will continue until all children have been able to find some fluorescent minerals. This activity is in conjunction with the St. Lawrence Rock & Mineral Club's 57th Annual Gem & Mineral Show & Swap on August 24th and 25th.
X-ALT-DESC;FMTTYPE=text/html:<span style="font-size:20px\;"><strong>KIDS FLUORESCENT MINERAL HUNT</strong></span><br />\nThis family friendly events hosted by the St. Lawrence Rock &amp\; Mineral Club will get the kids excited to search for &quot\;rocks that glow in the dark&quot\;!&nbsp\;Just before dusk certain minerals fluoresce (glow) when exposed to ultraviolet (&quot\;black&quot\;) light\, such as the white calcite from the Balmat Mines fluoresces red when viewed under black light. Other minerals glow red too\, or green\, blue\, purple\, or yellow. The St. Lawrence Rock &amp\; Mineral Club guarantees that samples of these minerals will be available for kids to find during the mineral hunt!<br />\n<br />\nAdmission to the hunt is free. Each child (age 12 or under) will be able to borrow a portable black light to use in the search. Kids will be allowed to keep all the minerals that they find.&nbsp\;<br />\n<br />\nThe hunt begins Friday\, the 23rd outside the Pavilion in Canton\, NY at dark (approx. 8:00 pm) and will continue until all children have been able to find some fluorescent minerals. <a href="https://business.visitstlc.com/events/details/gem-mineral-and-jewelry-show-17893" target="_blank">This activity is in conjunction with the St. Lawrence Rock &amp\; Mineral Club&#39\;s 57th Annual Gem &amp\; Mineral Show &amp\; Swap on August 24th and 25th.&nbsp\;</a>
LOCATION:Canton Pavilion 90 Lincoln St.\, Canton\, NY
UID:e.2288.17895
SEQUENCE:3
DTSTAMP:20260423T011144Z
URL:https://visitstl-gzcms.preview.gochambermaster.com/events/details/kids-fluorescent-mineral-hunt-17895
END:VEVENT

END:VCALENDAR
