BEGIN:VCALENDAR
VERSION:2.0
PRODID:-//ChamberMaster//Event Calendar 2.0//EN
METHOD:PUBLISH
X-PUBLISHED-TTL:P3D
REFRESH-INTERVAL:P3D
CALSCALE:GREGORIAN
BEGIN:VEVENT
DTSTART:20241005T040000Z
DTEND:20241005T190000Z
X-MICROSOFT-CDO-ALLDAYEVENT:FALSE
SUMMARY:Kids Pumpkin Patch Party
DESCRIPTION:KIDS PUMPKIN PATCH PARTY\n\nBring the children to the St. Lawrence Power & Equipment Museum on Saturday\, October 5th from 12pm to 3pm\, to paint a pumpkin\, play some games\, venture through the kiddy corn maze\, take a ride on the wagon around the museum and more! Cost to paint a pumpkin is $5. Food and refreshments will also be available for purchase. The event is rain or shine.
X-ALT-DESC;FMTTYPE=text/html:<p><span style="color:#FF8C00\;"><span style="font-size:20px\;"><strong>KIDS PUMPKIN PATCH PARTY</strong></span></span><br />\nBring the children to the St. Lawrence Power &amp\; Equipment Museum on Saturday\, October 5th from 12pm to 3pm\, to paint a pumpkin\, play some games\, venture through the kiddy corn maze\,&nbsp\;take a ride on the wagon around the museum&nbsp\;and more! Cost to paint a pumpkin is $5. Food and refreshments will also be available for purchase.&nbsp\;The event is rain or shine.</p>\n
LOCATION:St. Lawrence Power & Equipment Museum 1755 NY-345 Madrid\, NY 13660
UID:e.2288.17588
SEQUENCE:3
DTSTAMP:20260421T234019Z
URL:https://visitstl-gzcms.preview.gochambermaster.com/events/details/kids-pumpkin-patch-party-10-05-2024-17588
END:VEVENT

END:VCALENDAR
