BEGIN:VCALENDAR
VERSION:2.0
PRODID:-//ChamberMaster//Event Calendar 2.0//EN
METHOD:PUBLISH
X-PUBLISHED-TTL:P3D
REFRESH-INTERVAL:P3D
CALSCALE:GREGORIAN
BEGIN:VEVENT
DTSTART:20241026T150000Z
DTEND:20241026T190000Z
X-MICROSOFT-CDO-ALLDAYEVENT:FALSE
SUMMARY:Leather Bound Journal with Leaves
DESCRIPTION:Leather Bound Journal with Leaves\n\nClass will be held at The Gallery at Lake Saint Lawrence Arts\, 14 Main Street\, Waddington. Susan Skinner will lead you through making this fall journal. All materials supplied\, but bring your own leaves to make your own unique journal. Must pre-register at lakesaintlawrencearts@gmail.com or call 315-705-5198.
X-ALT-DESC;FMTTYPE=text/html:<span style="font-size:18px\;"><strong>Leather Bound Journal with Leaves</strong></span><br />\nClass will be held at The Gallery at Lake Saint Lawrence Arts\, 14 Main Street\, Waddington. Susan Skinner will lead you through making this fall journal. All materials supplied\, but bring your own leaves to make your own unique journal. Must pre-register at lakesaintlawrencearts@gmail.com or call 315-705-5198.
LOCATION:The Gallery at Lake Saint Lawrence Arts 14 Main Street\, Waddington\, NY
UID:e.2288.18744
SEQUENCE:3
DTSTAMP:20260421T233825Z
URL:https://visitstl-gzcms.preview.gochambermaster.com/events/details/leather-bound-journal-with-leaves-18744
END:VEVENT

END:VCALENDAR
