BEGIN:VCALENDAR
VERSION:2.0
PRODID:-//ChamberMaster//Event Calendar 2.0//EN
METHOD:PUBLISH
X-PUBLISHED-TTL:P3D
REFRESH-INTERVAL:P3D
CALSCALE:GREGORIAN
BEGIN:VEVENT
DTSTART:20240914T130000Z
DTEND:20240914T160000Z
X-MICROSOFT-CDO-ALLDAYEVENT:FALSE
SUMMARY:Liberty Utilities Color Walk/Run & Chalk the Walk
DESCRIPTION:LIBERTY UTILITIES\n\n1.6-MILE COLOR WALK/RUN & CHALK THE WALK\n\n\n\nLiberty Utilities in collaboration with Massena Central School District will be hosting their inaugural Color Walk/Run and Chalk the Walk event! Along the 1.6-mile John Story Trail Loop\, enjoy walk/running through the sprinkler at the beginning of the trail followed by six colors stations where you will be doused with a new color.\n\n\n\nBe on the lookout for squirt guns to keep you wet and stay colorful while in route! Participants can also "Chalk the Walk"! Proceeds for the event to benefit the St. Lawrence Count Prevention Coalition.\n\n\n\nEveryone participating should wear a white t-shirt! T-shirts may be ordered on the registration for OR wear one of your own!\n\n\n\nRegister Here\n\nFirst 20 people registered will get a free t-shirt!
X-ALT-DESC;FMTTYPE=text/html:<p><strong style="font-size: 20px\;">LIBERTY UTILITIES<br />\n1.6-MILE COLOR&nbsp\;WALK/RUN &amp\; CHALK THE WALK</strong><br />\n<br />\nLiberty Utilities in collaboration with Massena Central School District will be hosting their inaugural Color Walk/Run and Chalk the Walk event!&nbsp\;Along the 1.6-mile John Story Trail Loop\, enjoy walk/running through the sprinkler at the beginning of the trail followed by six colors stations where you will be doused with a new color.<br />\n<br />\nBe on the lookout for squirt guns to keep you wet and stay colorful while in route! Participants can also &quot\;Chalk the Walk&quot\;! Proceeds for the event to benefit&nbsp\;the St. Lawrence Count Prevention Coalition.<br />\n<br />\nEveryone participating should wear a white t-shirt! T-shirts may be ordered on the registration for OR wear one of your own!<br />\n<br />\n<strong><span style="font-size:18px\;"><a href="https://docs.google.com/forms/d/e/1FAIpQLSd3sc8ALh0YvDx7ZUM3jPKxTYOM1u1zWugkD0ikl5Faty0oWg/viewform" target="_blank">Register Here</a></span></strong><br />\nFirst 20 people registered will get a free t-shirt!</p>\n
LOCATION:John Story Trail - Massena\, NY Meet at the intersection of of Churchill & Highland Avenues Across from Nightengale High School Road Suggested Address for your GPS 84 Nightengale Avenue Massena\, NY13662
UID:e.2288.17724
SEQUENCE:3
DTSTAMP:20260422T080641Z
URL:https://visitstl-gzcms.preview.gochambermaster.com/events/details/liberty-utilities-color-walk-run-chalk-the-walk-17724
END:VEVENT

END:VCALENDAR
