BEGIN:VCALENDAR
VERSION:2.0
PRODID:-//ChamberMaster//Event Calendar 2.0//EN
METHOD:PUBLISH
X-PUBLISHED-TTL:P3D
REFRESH-INTERVAL:P3D
CALSCALE:GREGORIAN
BEGIN:VEVENT
DTSTART;VALUE=DATE:20240815
DTEND;VALUE=DATE:20240818
TRANSP:TRANSPARENT
X-MICROSOFT-CDO-ALLDAYEVENT:TRUE
SUMMARY:Lisbon Homecoming & Fireworks
DESCRIPTION:2024 LISBON HOMECOMING\nLisbon Homecoming will take place on August 15-17 featuring live music\, ice cream\, train rides\, fireworks\, carnival games and a parade. This years theme is "The Dog Days of Summer". Follow the Homecoming Committee's Facebook Page for additional scheduling and details for this year's events.\n\n\n\nLisbon Homecoming T-shirts for $15 will be available at the Lisbon Hepburn Library during business hours (MWF from 9am-4pm\; T/TH from 3pm-6pm).\n\n\n\nThursday\, Aug. 15\n\n6:30pm-8:00pm: Michael Reed performs @ Railroad Depot. Bring a chair and see the town's new Pavilion!\n\n\n\nFriday\, Aug. 16\n\n4:00-7:00pm: Ice Cream Social @ White Church\n\n\n\n6:30-8:00pm: Norwood Bass Brand @ Railroad Depot. Performance will be at the Pavilion\, food and refreshments are donated by the Town Board members and all proceeds will benefit the Railroad Depot Museum.\n\n\n\n7:00-11:00pm: Small Town Ramblers @ American Legion. The band is sponsored by the American Legion Auxiliary\, admission is $5.\n\n\n\nSaturday\, Aug. 17\n\nAll Day: Town Wide Garage Sales\n\n\n\n8:00am (registration at 7:15 am): Fun Run/5K sponsored by the Lisbon Wesleyan Church @ Fireman's Field\n\n\n\n8:00am - 2:00pm: Book Sale @ Hepburn Library\n\n\n\n9:00am-2:00pm: Free clothing @ Lisbon Wesleyan Church\n\n\n\n12:00pm-Until Gone: Chicken BBQ @ Lisbon Fire Department\n\n\n\n3:00pm-9:30pm: Dunk tank\, bounce house\, face painting\, photo booth\, games sponsored by Seaway Valley Prevention\, and food truck vendors @ Fireman's Field\n\n\n\n4:00pm-5:00pm: Parade down Main Street\n\n\n\n5:30pm-9:30pm: Live entertainment by The Black Lakers @ Fireman's Field\n\n\n\n6:00-9:00pm: Children's train rides from the Pray Road to Fireman's Field\n\n\n\n9:30pm: Fireworks @ Fireman's Field
X-ALT-DESC;FMTTYPE=text/html:<div><span style="color:#000080\;"><span style="font-size:20px\;"><strong>2024 LISBON HOMECOMING</strong></span></span></div>\nLisbon Homecoming will take place on August 15-17 featuring live music\, ice cream\, train rides\, fireworks\, carnival games and a parade. This years theme is &quot\;The Dog Days of Summer&quot\;.&nbsp\;<span style="text-align: center\;">Follow the Homecoming Committee&#39\;s&nbsp\;</span><a href="https://www.facebook.com/lisbonhomecoming" style="text-align: center\;" target="_blank">Facebook Page</a><span style="text-align: center\;">&nbsp\;for additional scheduling and details for this year&#39\;s events.</span><br />\n<br />\nLisbon Homecoming T-shirts for $15 will be available at the <a href="https://www.facebook.com/LisbonHepburnLibrary" target="_blank">Lisbon Hepburn Library</a> during business hours (MWF from 9am-4pm\; T/TH from 3pm-6pm).<br />\n<br />\n<span style="color:#000080\;"><strong>Thursday\, Aug. 15</strong></span><br />\n6:30pm-8:00pm: Michael Reed performs @ Railroad Depot. Bring a chair and see the town&rsquo\;s new Pavilion!<br />\n<br />\n<span style="color:#000080\;"><strong>Friday\, Aug. 16</strong></span><br />\n4:00-7:00pm: Ice Cream Social @ White Church<br />\n<br />\n6:30-8:00pm: Norwood Bass Brand @ Railroad Depot. Performance will be at the Pavilion\, food and refreshments are donated by the Town Board members and all proceeds will benefit the Railroad Depot Museum.<br />\n<br />\n7:00-11:00pm: Small Town Ramblers @ American Legion. The band is sponsored by the American Legion Auxiliary\, admission is $5.<br />\n<br />\n<span style="color:#000080\;"><strong>Saturday\, Aug. 17</strong></span><br />\nAll Day: Town Wide Garage Sales<br />\n<br />\n8:00am (registration at 7:15 am):&nbsp\;Fun Run/5K sponsored by the Lisbon Wesleyan Church @ Fireman&rsquo\;s Field<br />\n<br />\n8:00am - 2:00pm: Book Sale @ Hepburn Library<br />\n<br />\n9:00am-2:00pm: Free clothing @ Lisbon Wesleyan Church<br />\n<br />\n12:00pm-Until Gone: Chicken BBQ @&nbsp\;Lisbon Fire Department<br />\n<br />\n3:00pm-9:30pm: Dunk tank\, bounce house\, face painting\, photo booth\, games sponsored by Seaway Valley Prevention\, and food truck vendors @&nbsp\;Fireman&rsquo\;s Field<br />\n<br />\n4:00pm-5:00pm: Parade down Main Street<br />\n<br />\n5:30pm-9:30pm: Live entertainment by The Black Lakers @ Fireman&rsquo\;s Field<br />\n<br />\n6:00-9:00pm: Children&rsquo\;s train rides from the Pray Road to Fireman&rsquo\;s Field<br />\n<br />\n9:30pm: Fireworks&nbsp\;@ Fireman&rsquo\;s Field
LOCATION:Lisbon Fireman's Field: 1399-1355 Pray Rd Lisbon Hepburn Library: 6899 CR 10 Lisbon Homecoming Parade Route: Lisbon Central School to Lisbon Fire Dept.
UID:e.2288.18554
SEQUENCE:3
DTSTAMP:20260422T030128Z
URL:https://visitstl-gzcms.preview.gochambermaster.com/events/details/lisbon-homecoming-fireworks-18554
END:VEVENT

END:VCALENDAR
