BEGIN:VCALENDAR
VERSION:2.0
PRODID:-//ChamberMaster//Event Calendar 2.0//EN
METHOD:PUBLISH
X-PUBLISHED-TTL:P3D
REFRESH-INTERVAL:P3D
CALSCALE:GREGORIAN
BEGIN:VEVENT
DTSTART;VALUE=DATE:20241028
DTEND;VALUE=DATE:20241029
TRANSP:TRANSPARENT
X-MICROSOFT-CDO-ALLDAYEVENT:TRUE
SUMMARY:Nosferatu Screening with Live Accompaniment
DESCRIPTION:"Nosferatu" Screening\n\nGermany\, 1922\, d. F. W. Murnau\, with Alden Ensemble live accompaniment\, 94 m NR\n\n\n\nCinema 10 will screen Nosferatu with Alden Ensemble live accompaniment onMonday\, Oct. 28 at 7:15 p.m. at the Roxy Theater in Potsdam.\n\n\n\nThe Andrew Alden Ensemble returns to Potsdam after nearly a decade away\, bringing an encore performance of their original score for F.W. Murnau's Nosferatu.\n\n\n\nAlden directs a modern chamber group through music that perfectly accompanies and even reshapes how you watch classic films.\n\n\n\nIn Nosferatu\, the original vampire tale\, hapless Thomas Hutter attends the Transylvanian estate of Count Orlok to close a real-estate deal. But Orlok has more mysterious plans in store.\n\n\n\nThe film is a gothic tale of the occult and changed the vampire story on screen forever.
X-ALT-DESC;FMTTYPE=text/html:<p><span style="font-size:20px\;"><span style="color:#FF8C00\;"><strong>&quot\;Nosferatu&quot\; Screening</strong></span></span><br />\n<span style="font-size:16px\;"><span style="color:#FF8C00\;"><span style="font-family: sans-serif\, Arial\, Verdana\, &quot\;Trebuchet MS&quot\;\; background-color: rgb(255\, 255\, 255)\;">Germany\, 1922\, d. F. W. Murnau\, with Alden Ensemble live accompaniment\, 94 m NR</span></span></span><br />\n<br />\nCinema 10 will screen Nosferatu with Alden Ensemble live accompaniment onMonday\,&nbsp\;Oct. 28 at 7:15 p.m. at the Roxy Theater in Potsdam.<br />\n<br />\nThe Andrew Alden Ensemble returns to Potsdam after nearly a decade away\, bringing an encore performance of their original score for F.W. Murnau&rsquo\;s&nbsp\;Nosferatu.<br />\n<br />\nAlden directs a modern chamber group through music that perfectly accompanies and even reshapes how you watch classic films.<br />\n<br />\nIn&nbsp\;Nosferatu\, the original vampire tale\, hapless Thomas Hutter attends the Transylvanian estate of Count Orlok to close a real-estate deal. But Orlok has more mysterious plans in store.<br />\n<br />\nThe film is a gothic tale of the occult and changed the vampire story on screen forever.</p>\n
LOCATION:Roxy Theater 20 Main Street Potsdam\, NY 13676
UID:e.2288.18856
SEQUENCE:3
DTSTAMP:20260421T231938Z
URL:https://visitstl-gzcms.preview.gochambermaster.com/events/details/nosferatu-screening-with-live-accompaniment-18856
END:VEVENT

END:VCALENDAR
