BEGIN:VCALENDAR
VERSION:2.0
PRODID:-//ChamberMaster//Event Calendar 2.0//EN
METHOD:PUBLISH
X-PUBLISHED-TTL:P3D
REFRESH-INTERVAL:P3D
CALSCALE:GREGORIAN
BEGIN:VEVENT
DTSTART:20240827T140000Z
DTEND:20240827T170000Z
X-MICROSOFT-CDO-ALLDAYEVENT:FALSE
SUMMARY:Primitive Apple Tree Barn Quilt Workshop
DESCRIPTION:PRIMITIVE APPLE TREE BARN QUILT WORKSHOP\n\nThis is a one-day class and will be held only in Waddington in the Old Town Hall. Workshop includes materials to create a 2' x 2' barn quilt on sanded  " thick plywood. Great for beginners. Theresa Gabor will walk participants through the process step-by-step. All materials provided. Min. 4\, Max 12 for the class. Must pre-register.
X-ALT-DESC;FMTTYPE=text/html:<span style="font-size:20px\;"><strong>PRIMITIVE APPLE TREE BARN QUILT WORKSHOP</strong></span><br />\nThis is a one-day class and will be held only in Waddington in the Old Town Hall. Workshop includes materials to create a 2&rsquo\; x 2&rsquo\; barn quilt on sanded &frac12\;&rdquo\; thick plywood. Great for beginners. Theresa Gabor will walk participants through the process step-by-step. All materials provided. Min. 4\, Max 12 for the class. Must pre-register.
LOCATION:Old Town Hall 38 Main St.\, Waddington\, NY
UID:e.2288.18557
SEQUENCE:3
DTSTAMP:20260422T042833Z
URL:https://visitstl-gzcms.preview.gochambermaster.com/events/details/primitive-apple-tree-barn-quilt-workshop-18557
END:VEVENT

END:VCALENDAR
