BEGIN:VCALENDAR
VERSION:2.0
PRODID:-//ChamberMaster//Event Calendar 2.0//EN
METHOD:PUBLISH
X-PUBLISHED-TTL:P3D
REFRESH-INTERVAL:P3D
CALSCALE:GREGORIAN
BEGIN:VEVENT
DTSTART:20241026T140000Z
DTEND:20241026T173000Z
X-MICROSOFT-CDO-ALLDAYEVENT:FALSE
SUMMARY:Schuler Family Tract at Streeter Lake History Hike
DESCRIPTION:Schuler Family Tract at Streeter Lake History Hike\n\n\n\nJoin the SL Center for History and Culture on Saturday\, October 26 for a history hike at Streeter Lake! Bill Hill will be leading another historic hiking tour in conjunction with his series\, "Hiking the Trail to Yesterday."\n\n\n\nThis scenic hike will visit the Schuler Tract at Streeter Lake in the 26\, 702-acre Aldrich Pond State Forest. The tour will start at a campsite on Streeter Lake Rd. There is parking available and an outhouse. Directions will be provided at registration.\n\n\n\nHighlights Include:\n\n	Schuler Family Tract\n	100-acre potato patch where experimental seed potatoes were farmed\n	The former log lodge site\n	Schuler Memorial Park and Mausoleum\n\nAdditional Information:\n\n\n	Approx. 4 miles roundtrip\, medium difficulty\n	Waterproof hiking books recommended\n	Must wear an article of clothing that is red or orange for safety\n	Halfway through the hike there will be a lunch break.\n	Bring a bagged lunch and water for the trip. Bug spray\, raingear\, and sunscreen recommended.\n	This history hike may be rescheduled due to heavy rain. The program will still occur in light rain. Registered participants will be notified by phone or e-mail of any changes by 4:00 PM\, Friday\, October 25. The rain date for this event is Sunday\, October 27.\n\nRegistration required: Call (315) 386-8133\, e-mail carlene@slcha.org\, or register online here.
X-ALT-DESC;FMTTYPE=text/html:<span style="font-size:18px\;"><strong>Schuler Family Tract at Streeter Lake History Hike</strong></span><br />\n<br />\nJoin the SL Center for History and Culture on Saturday\, October 26 for a history hike at Streeter Lake! Bill Hill will be leading another historic hiking tour in conjunction with his series\, &quot\;Hiking the Trail to Yesterday.&quot\;<br />\n<br />\nThis scenic hike will visit the Schuler Tract at Streeter Lake in the 26\, 702-acre <a href="https://dec.ny.gov/places/aldrich-pond-wild-forest" target="_blank">Aldrich Pond State Forest</a>. The tour will start at a campsite on Streeter Lake Rd. There is parking available and an outhouse. Directions will be provided at registration.<br />\n<br />\nHighlights Include:\n<ul>\n	<li>Schuler Family Tract</li>\n	<li>100-acre potato patch where experimental seed potatoes were farmed</li>\n	<li>The former log lodge site</li>\n	<li>Schuler Memorial Park and Mausoleum</li>\n</ul>\nAdditional Information:\n\n<ul>\n	<li>Approx. 4 miles roundtrip\, medium difficulty</li>\n	<li>Waterproof hiking books recommended</li>\n	<li>Must wear an article of clothing that is red or orange for safety</li>\n	<li>Halfway through the hike there will be a lunch break.</li>\n	<li>Bring a bagged lunch and water for the trip. Bug spray\, raingear\, and sunscreen recommended.</li>\n	<li>This history hike may be rescheduled due to heavy rain. The program will still occur in light rain. Registered participants will be notified by phone or e-mail of any changes by 4:00 PM\, Friday\, October 25. The rain date for this event is Sunday\, October 27.</li>\n</ul>\nRegistration required: Call (315) 386-8133\, e-mail carlene@slcha.org\, or <a href="https://lp.constantcontactpages.com/ev/reg/33trtvj" target="_blank">register online here</a>.
LOCATION:Directions will be provided at registration. Register online here.
UID:e.2288.18639
SEQUENCE:3
DTSTAMP:20260421T234148Z
URL:https://visitstl-gzcms.preview.gochambermaster.com/events/details/schuler-family-tract-at-streeter-lake-history-hike-18639
END:VEVENT

END:VCALENDAR
