BEGIN:VCALENDAR
VERSION:2.0
PRODID:-//ChamberMaster//Event Calendar 2.0//EN
METHOD:PUBLISH
X-PUBLISHED-TTL:P3D
REFRESH-INTERVAL:P3D
CALSCALE:GREGORIAN
BEGIN:VEVENT
DTSTART:20240831T130000Z
DTEND:20240901T210000Z
X-MICROSOFT-CDO-ALLDAYEVENT:FALSE
SUMMARY:SLPEM Old Fashioned Harvest Days & Tractor Show
DESCRIPTION:OLD TIME HARVEST DAYS & TRACTOR SHOW\n\n\n\nThe St. Lawrence Power & Equipment Museum will host weekend celebrations for their annual Old Fashioned Harvest Days & Tractor Show on Saturday\, August 31 and Sunday\, September 1st from 9am to 5pm. During this event\, the museum truly comes to life featuring: an Antique Tractor Display\, Wagon Rides\, Tractor Pulls\, Horse Pulls\, Ladies' Skillet Toss\, Kids' Pedal Tractor Races\, Tractor Parade\, Kids' Pedal Tractor Pulls\, Antique Cars and Trucks\, and so much more.\n\n\n\nPlus take a walk through the museum's historical buildings\, such as: the 1850's Schoolhouse\, Blacksmith Shop\, Maple Sugar House\, 1926 Gas Station\, Shoe Repair Shop\, Heritage Fibers\, Saw and Shingle Mills\, Wood Shop\, General Store\, Print Shop\, Nevin Church\, Carriage Barn\, Equine Building\, Tractor Barn\, 1850's Log Cabin\, WWII Era Farmstead\, Collections Building\, and Fort Tribute!\n\n\n\nFor a full scheduling of events check out the SLPEM website HERE or Facebook Page HERE for updates!
X-ALT-DESC;FMTTYPE=text/html:<div>\n<p><span style="font-size:20px\;"><strong>OLD TIME HARVEST DAYS &amp\; TRACTOR SHOW</strong></span><br />\n<br />\nThe St. Lawrence Power &amp\; Equipment Museum will host weekend celebrations for their annual Old Fashioned Harvest Days &amp\; Tractor Show on Saturday\, August 31 and Sunday\, September 1st from 9am to 5pm. During this event\, the museum truly comes to life featuring: an Antique Tractor Display\, Wagon Rides\, Tractor Pulls\, Horse Pulls\, Ladies&rsquo\; Skillet Toss\, Kids&rsquo\; Pedal Tractor Races\, Tractor Parade\, Kids&rsquo\; Pedal Tractor Pulls\, Antique Cars and Trucks\, and so much more.<br />\n<br />\nPlus take a walk through the museum&#39\;s historical buildings\, such as: the 1850&#39\;s Schoolhouse\, Blacksmith Shop\, Maple Sugar House\, 1926 Gas Station\, Shoe Repair Shop\, Heritage Fibers\, Saw and Shingle Mills\, Wood Shop\, General Store\, Print Shop\, Nevin Church\, Carriage Barn\, Equine Building\, Tractor Barn\, 1850&#39\;s Log Cabin\, WWII Era Farmstead\, Collections Building\, and Fort Tribute!<br />\n<br />\nFor a full scheduling of events check out the SLPEM website&nbsp\;<a href="https://slpowermuseum.com/" target="_blank">HERE</a>&nbsp\;or Facebook Page&nbsp\;<a href="https://www.facebook.com/slpowermuseum" target="_blank">HERE</a>&nbsp\;for updates!</p>\n</div>\n
LOCATION:St Lawrence Power and Equipment Museum 1755 NY-345 Madrid. NY 13660
UID:e.2288.17587
SEQUENCE:3
DTSTAMP:20260422T044905Z
URL:https://visitstl-gzcms.preview.gochambermaster.com/events/details/slpem-old-fashioned-harvest-days-tractor-show-17587
END:VEVENT

END:VCALENDAR
