BEGIN:VCALENDAR
VERSION:2.0
PRODID:-//ChamberMaster//Event Calendar 2.0//EN
METHOD:PUBLISH
X-PUBLISHED-TTL:P3D
REFRESH-INTERVAL:P3D
CALSCALE:GREGORIAN
BEGIN:VEVENT
DTSTART:20240925T000000Z
DTEND:20240925T013000Z
X-MICROSOFT-CDO-ALLDAYEVENT:FALSE
SUMMARY:SLU Writers Series presents Joe Wilkins
DESCRIPTION:ST. LAWRENCE UNIVERSITY WRITERS SERIES\n\nPRESENTS: JOE WILKINS\n\n\n\nFor over 50 years the Writers Series program at St. Lawrence University has welcomed all varieties of authors including Pulitzer Prize winners.\n\n\n\nJoe Wilkins is the author of the novels The Entire Sky and Fall Back Down When I Die. Wilkins is also the author of a memoir\, The Mountain and the Fathers\, and four collections of poetry\, including Thieve and When We Were Birds.\n\n\n\nHis work has garnered critical acclaim from a host of venues\, including Kirkus\, Booklist\, the Wall Street Journal\, The Atlantic\, Outside\, Southern Living\, and High Country News. His many awards and honors include the High Plains Book Award\, the PEN Northwest Wilderness Writing Residency\, and an Oregon Career Literary Fellowship.\n\n\n\nBorn and raised on the Big Dry of eastern Montana\, Wilkins now lives with his family in the foothills of the Coast Range of Oregon\, where he directs the creative writing program at Linfield University.
X-ALT-DESC;FMTTYPE=text/html:<strong style="font-size: 20px\;">ST. LAWRENCE UNIVERSITY WRITERS SERIES</strong><br style="font-size: 20px\;" />\n<span style="font-size: 20px\;">PRESENTS: JOE WILKINS</span><br />\n<br />\n<em>For over 50 years the Writers Series program at St. Lawrence University has welcomed all varieties of authors including Pulitzer Prize winners.</em><br />\n<br />\nJoe Wilkins is the author of the novels The Entire Sky and Fall Back Down When I Die. Wilkins is also the author of a memoir\, The Mountain and the Fathers\, and four collections of poetry\, including Thieve and When We Were Birds.<br />\n<br />\nHis work has garnered critical acclaim from a host of venues\, including Kirkus\, Booklist\, the Wall Street Journal\, The Atlantic\, Outside\, Southern Living\, and High Country News. His many awards and honors include the High Plains Book Award\, the PEN Northwest Wilderness Writing Residency\, and an Oregon Career Literary Fellowship.<br />\n<br />\nBorn and raised on the Big Dry of eastern Montana\, Wilkins now lives with his family in the foothills of the Coast Range of Oregon\, where he directs the creative writing program at Linfield University.&nbsp\;
LOCATION:St. Lawrence University Sykes Residence Hall Common Room Park St. Canton\, NY 13617 across from the Brewer Book Store
UID:e.2288.17900
SEQUENCE:3
DTSTAMP:20260422T012003Z
URL:https://visitstl-gzcms.preview.gochambermaster.com/events/details/slu-writers-series-presents-joe-wilkins-17900
END:VEVENT

END:VCALENDAR
