BEGIN:VCALENDAR
VERSION:2.0
PRODID:-//ChamberMaster//Event Calendar 2.0//EN
METHOD:PUBLISH
X-PUBLISHED-TTL:P3D
REFRESH-INTERVAL:P3D
CALSCALE:GREGORIAN
BEGIN:VEVENT
DTSTART:20241123T150000Z
DTEND:20241123T180000Z
X-MICROSOFT-CDO-ALLDAYEVENT:FALSE
SUMMARY:Special Fall Market Day
DESCRIPTION:Special Fall Market Day\n\nHoliday season is approaching and our farmers and food producers still have wonderful goods available. GardenShare will host a Special Fall Market Day. You'll find produce\, meat\, maple\, honey\, baked goods\, and more for your holiday meals. GardenShare will be onsite to process credit\, debit\, and SNAP transactions. Support our local farmers\, food producers\, and economy by shopping locally.
X-ALT-DESC;FMTTYPE=text/html:<span style="font-size:20px\;"><strong>Special Fall Market Day</strong></span><br />\nHoliday season is approaching and our farmers and food producers still have wonderful goods available. GardenShare will host a Special Fall Market Day. You&rsquo\;ll find produce\, meat\, maple\, honey\, baked goods\, and more for your holiday meals. GardenShare will be onsite to process credit\, debit\, and SNAP transactions. Support our local farmers\, food producers\, and economy by shopping locally.
LOCATION:First Presbyterian Church\, 17 Park St\, Canton\, NY
UID:e.2288.18903
SEQUENCE:3
DTSTAMP:20260422T011757Z
URL:https://visitstl-gzcms.preview.gochambermaster.com/events/details/special-fall-market-day-18903
END:VEVENT

END:VCALENDAR
