BEGIN:VCALENDAR
VERSION:2.0
PRODID:-//ChamberMaster//Event Calendar 2.0//EN
METHOD:PUBLISH
X-PUBLISHED-TTL:P3D
REFRESH-INTERVAL:P3D
CALSCALE:GREGORIAN
BEGIN:VEVENT
DTSTART;VALUE=DATE:20240818
DTEND;VALUE=DATE:20240819
TRANSP:TRANSPARENT
X-MICROSOFT-CDO-ALLDAYEVENT:TRUE
SUMMARY:Summer Nights in the Falls Concert Series
DESCRIPTION:SUMMER NIGHTS IN THE FALLS\n\n2024 CONCERT SERIES\n\n\n\nThe Village of Rensselaer Falls is hosting Summer Nights in the Falls\, a concert series of events May - August. Enjoy fun\, food\, music and more! \n\n\n\nMusical performer TBA. Check the Village's website or their Facebook Page for update announcements!
X-ALT-DESC;FMTTYPE=text/html:<span style="font-size:20px\;"><strong>SUMMER NIGHTS IN THE FALLS</strong><br />\n2024 CONCERT SERIES</span><br />\n<br />\nThe Village of Rensselaer Falls is hosting Summer Nights in the Falls\, a concert series of events May - August. Enjoy fun\, food\, music and more!&nbsp\;<br />\n<br />\nMusical performer TBA. Check the <a href="http://www.rensselaerfallsny.com/" target="_blank">Village&#39\;s website</a>&nbsp\;or their <a href="https://www.facebook.com/groups/1951627575108581/" target="_blank">Facebook Page</a> for update announcements!
LOCATION:Pioneer Park Rensselaer Falls\, NY
UID:e.2288.18416
SEQUENCE:3
DTSTAMP:20260422T030616Z
URL:https://visitstl-gzcms.preview.gochambermaster.com/events/details/summer-nights-in-the-falls-concert-series-18416
END:VEVENT

END:VCALENDAR
