BEGIN:VCALENDAR
VERSION:2.0
PRODID:-//ChamberMaster//Event Calendar 2.0//EN
METHOD:PUBLISH
X-PUBLISHED-TTL:P3D
REFRESH-INTERVAL:P3D
CALSCALE:GREGORIAN
BEGIN:VEVENT
DTSTART:20240803T230000Z
DTEND:20240804T010000Z
X-MICROSOFT-CDO-ALLDAYEVENT:FALSE
SUMMARY:The Edwards Opera House Summer Series Presents: Phil Hurley & Carrie Caylor
DESCRIPTION:The Edwards Opera House Summer Series Presents:\n\nPHIL HURLEY & CARRIE CAYLOR\n\n\n\nPhil Hurley has been playing in bands since he was eight years old. He moved from his hometown of Potsdam\, NY to Boston\, MA in 1987 with his band Gigolo Aunts. Gigolo Aunts had a major label deal with RCA and toured extensively in the US and Europe with groups such as the Counting Crows\, Cranberries\, Wallflowers\, and The Lemonheads. They recorded music for films including: That Thing You Do\, The River Wild\, Swimming With Sharks\, The Buddy System\, In the Army Now\, and the title track to Dumb and Dumber\, "Where I Find My Heaven." \n\n\n\nPhil Hurley then went on to tour with Tracy Bonham for her platinum record "The Burdens of Being Upright." After relocating to Seattle\, WA\, he continued to make music with groups like The Tycoons (Chris Ballew\, PUSA)\, Shuggie\, and The Hula Bees. He was one of the first employees at the much-celebrated shop\, Emerald City Guitars. Phil Hurley was hand-selected to open the Sky Church at the Experience Music Project.\n\n\n\nAfter a brief stint in Amsterdam\, Phil Hurley was once again making music--this time in Los Angeles. He performed in the original cast of the hit show Rock of Ages.  He worked in sales\, and as a guitar specialist at Westwood Music\, and as a guitar specialist for James Trussart\, developing some of his first demo videos.  He wrote the theme songs for HBOs Lucky Louie\, The Greg Behrendt Show\, and Weeds.\n\n\n\nHe created the celebrated country-rock group StoneHoney with fellow LA singer-songwriters Shawn Davis\, Nick Randolph\, and Dave Phenecie in 2006. StoneHoney toured extensively across the US\, and found their musical home when they relocated to Austin\, TX in 2009\, signing to Jimmy LaFave's Music Road Records.\n\n\n\nIn Austin\, Phil Hurley continued his success playing guitar with Jimmy LaFave\, and recording with artists such as Hal Ketchum and Wendi Waldman. He is a founding member of South Austin Moonlighters. The South Austin Moonlighters have released four albums\, garnering regional radio and touring success.\n\n\n\nPhil Hurley released his solo album Nowhere Left To Run\, produced by Chris Gage in 2019. His second solo album is currently under production.\n\n\n\nFor more information on Phil Hurley's\, visit Facebook Page or website.\n\n\n\nTickets are $15 per person. Pre-purchase your tickets online HERE.
X-ALT-DESC;FMTTYPE=text/html:<span style="font-size: 20px\;">The Edwards Opera House Summer Series Presents:</span><br style="font-size: 20px\;" />\n<strong style="font-size: 20px\;">PHIL HURLEY &amp\; CARRIE CAYLOR</strong><br />\n<br />\nPhil Hurley has been playing in bands since he was eight years old. He moved from his hometown of Potsdam\, NY to Boston\, MA in 1987 with his band Gigolo Aunts. Gigolo Aunts had a major label deal with RCA and toured extensively in the US and Europe with groups such as the Counting Crows\, Cranberries\, Wallflowers\, and The Lemonheads. They recorded music for films including: That Thing You Do\, The River Wild\, Swimming With Sharks\, The Buddy System\, In the Army Now\, and the title track to Dumb and Dumber\, &quot\;Where I Find My Heaven.&quot\;&nbsp\;<br />\n<br />\nPhil Hurley then went on to tour with Tracy Bonham for her platinum record &quot\;The Burdens of Being Upright.&quot\; After relocating to Seattle\, WA\, he continued to make music with groups like The Tycoons (Chris Ballew\, PUSA)\, Shuggie\, and The Hula Bees. He was one of the first employees at the much-celebrated shop\, Emerald City Guitars. Phil Hurley was hand-selected to open the Sky Church at the Experience Music Project.<br />\n<br />\nAfter a brief stint in Amsterdam\, Phil Hurley was once again making music--this time in Los Angeles. He performed in the original cast of the hit show Rock of Ages.&nbsp\; He worked in sales\, and as a guitar specialist at Westwood Music\, and as a guitar specialist for James Trussart\, developing some of his first demo videos.&nbsp\; He wrote the theme songs for HBOs Lucky Louie\, The Greg Behrendt Show\, and Weeds.<br />\n<br />\nHe created the celebrated country-rock group StoneHoney with fellow LA singer-songwriters Shawn Davis\, Nick Randolph\, and Dave Phenecie in 2006. StoneHoney toured extensively across the US\, and found their musical home when they relocated to Austin\, TX in 2009\, signing to Jimmy LaFave&#39\;s Music Road Records.<br />\n<br />\nIn Austin\, Phil Hurley continued his success playing guitar with Jimmy LaFave\, and recording with artists such as Hal Ketchum and Wendi Waldman. He is a founding member of South Austin Moonlighters. The South Austin Moonlighters have released four albums\, garnering regional radio and touring success.<br />\n<br />\nPhil Hurley released his solo album Nowhere Left To Run\, produced by Chris Gage in 2019. His second solo album is currently under production.<br />\n<br />\nFor more information on Phil Hurley&#39\;s\, visit <a href="https://www.facebook.com/philhurleymusicpage" target="_blank">Facebook Page</a>&nbsp\;or&nbsp\;<a href="https://www.philhurleymusic.com/?fbclid=IwZXh0bgNhZW0CMTAAAR0nyYB9euF1QAWgx5V3YngooaqVsjC_RUQNIuhS9VILi0g1TFg6_kWUp3M_aem_ARvlotuIhFSRSl2JDpwF54AHct7ilEG1Z3y6ViWMf8a87k4HCHvkKIW0tN8NOU9LWe2dYfjTnK8YAO7HJElaJMb_" target="_blank">website</a>.<br />\n<br />\nTickets are $15 per person. Pre-purchase your tickets online&nbsp\;<a href="https://edwardsoperahouse.com/tickets" target="_blank">HERE</a>.
LOCATION:Edwards Opera House 161 Main Street Edwards\, NY 13635
UID:e.2288.17652
SEQUENCE:3
DTSTAMP:20260422T064833Z
URL:https://visitstl-gzcms.preview.gochambermaster.com/events/details/the-edwards-opera-house-summer-series-presents-phil-hurley-carrie-caylor-17652
END:VEVENT

END:VCALENDAR
