BEGIN:VCALENDAR
VERSION:2.0
PRODID:-//ChamberMaster//Event Calendar 2.0//EN
METHOD:PUBLISH
X-PUBLISHED-TTL:P3D
REFRESH-INTERVAL:P3D
CALSCALE:GREGORIAN
BEGIN:VEVENT
DTSTART;VALUE=DATE:20240810
DTEND;VALUE=DATE:20240811
TRANSP:TRANSPARENT
X-MICROSOFT-CDO-ALLDAYEVENT:TRUE
SUMMARY:Thousand Islands Cup
DESCRIPTION:THOUSAND ISLANDS CUP\n\n\n\nHosted by the Chippewa Yacht Club\, this annual event is a race for antique and classic race boats featuring some of the fastest classic racers in the Thousand Islands!\n\n\n\nRaces will be held on the St. Lawrence River in front of Oak Island\, adjacent to Chippewa Bay\, taking competitors over part of the Chippewa Yacht Club's 1905 Gold Cup Course. The Thousand Islands Cup can be viewed from boat in front of the down river end of Oak Island. The Cup was restarted in 2018 and has run every year since.
X-ALT-DESC;FMTTYPE=text/html:<span style="font-size:20px\;"><strong>THOUSAND ISLANDS CUP</strong></span><br />\n<br />\nHosted by the Chippewa Yacht Club\, this annual event is a race for antique and classic race boats featuring some of the fastest classic racers in the Thousand Islands!<br />\n<br />\nRaces will be&nbsp\;held on the St. Lawrence River in front of Oak Island\, adjacent to Chippewa Bay\, taking competitors over part of the Chippewa Yacht Club&#39\;s 1905 Gold Cup Course. The Thousand Islands&nbsp\;Cup can be viewed from boat in front of the down river end of Oak Island.&nbsp\;The Cup was restarted in 2018 and has run every year since.&nbsp\;<br />\n&nbsp\;
LOCATION:
UID:e.2288.18466
SEQUENCE:3
DTSTAMP:20260422T044636Z
URL:https://visitstl-gzcms.preview.gochambermaster.com/events/details/thousand-islands-cup-18466
END:VEVENT

END:VCALENDAR
