BEGIN:VCALENDAR
VERSION:2.0
PRODID:-//ChamberMaster//Event Calendar 2.0//EN
METHOD:PUBLISH
X-PUBLISHED-TTL:P3D
REFRESH-INTERVAL:P3D
CALSCALE:GREGORIAN
BEGIN:VEVENT
DTSTART:20241027T170000Z
DTEND:20241027T190000Z
X-MICROSOFT-CDO-ALLDAYEVENT:FALSE
SUMMARY:Trunk-or-Treat: Canton VFW
DESCRIPTION:Trunk-or-Treat: Canton VFW\n\nEdward C. Seymour Veterans of Foreign Wars Post 1231 Auxiliary in Canton will host a Trunk or Treat on Sunday\, Oct. 27 from 1-3 p.m. in the VFW parking lot.
X-ALT-DESC;FMTTYPE=text/html:<span style="font-size:20px\;"><span style="color:#FF8C00\;"><strong>Trunk-or-Treat: Canton VFW</strong></span></span><br />\nEdward C. Seymour Veterans of Foreign Wars Post 1231 Auxiliary in Canton will host a Trunk or Treat on Sunday\, Oct. 27 from 1-3 p.m. in the VFW parking lot.
LOCATION:VFW Post 1231 34 Gouverneur Street Canton\, NY 13617
UID:e.2288.18855
SEQUENCE:3
DTSTAMP:20260421T233910Z
URL:https://visitstl-gzcms.preview.gochambermaster.com/events/details/trunk-or-treat-canton-vfw-18855
END:VEVENT

END:VCALENDAR
